Workbook

Sheet Rekapitulácia stavby
A1: Export Komplet | BA1: 2.0 | BB1: ZAMOK | BT1: False | BU1: False | BV1: {f4993a4e-5b43-47c6-9b4e-14dd18bcbc8b}
BS2: 0,01 | BT2: 23
BS3: 0,01 | BT3: 23
D4: REKAPITULÁCIA STAVBY | AS4: v --- nižšie sa nachádzajú doplnkové a pomocné údaje k zostavám --- v | BS4: 0,001
D5: Kód: | K5: 3214 | BS5: 0,01
D6: Stavba: | K6: Rekonštrukcia striech na objekte Domova mládeže a jedálne budovy školy - PD | BS6: 0,01
D7: JKSO: | AK7: ČS: | BS7: 0,01
D8: Miesto: | AK8: Dátum: | AN8: 11. 3. 2026 | BS8: 0,01
BS9: 0,01
D10: Objednávateľ: | AK10: IČO: | BS10: 0,01
AK11: IČ DPH: | BS11: 0,01
BS12: 0,01
D13: Zhotoviteľ: | AK13: IČO: | AN13: 00896225 | BS13: 0,01
E14: Swietelsky-Slovakia spol. s r.o. | AK14: IČ DPH: | AN14: SK2020294144 | BS14: 0,01
BS15: False
D16: Projektant: | AK16: IČO: | BS16: False
AK17: IČ DPH: | BS17: True
BS18: 0,01
D19: Spracovateľ: | AK19: IČO: | BS19: 0,01
AK20: IČ DPH: | BS20: True
D22: Poznámka:
D26: Cena bez DPH | AK26: =ROUND(AG94,2) -> 234121.21
L28: Sadzba dane | W28: Základ dane | AK28: Výška dane
D29: DPH | F29: základná | L29: 0.23 | W29: =ROUND(AZ94, 2) -> 0 | AK29: =ROUND(AV94, 2) -> 0
F30: znížená | L30: 0.23 | W30: =ROUND(BA94, 2) -> 234121.21 | AK30: =ROUND(AW94, 2) -> 53847.88
F31: zákl. prenesená | L31: 0.23 | W31: =ROUND(BB94, 2) -> 0 | AK31: 0
F32: zníž. prenesená | L32: 0.23 | W32: =ROUND(BC94, 2) -> 0 | AK32: 0
F33: nulová | L33: 0 | W33: =ROUND(BD94, 2) -> 0 | AK33: 0
D35: Cena s DPH | T35: v | X35: EUR | AK35: =SUM(AK26:AK33) -> 287969.09
D49: Projektant | AH49: Spracovateľ
D60: Dátum a podpis: | V60: Pečiatka | AH60: Dátum a podpis: | AM60: Pečiatka
D64: Objednávateľ | AH64: Zhotoviteľ
D75: Dátum a podpis: | V75: Pečiatka | AH75: Dátum a podpis: | AM75: Pečiatka
C82: REKAPITULÁCIA OBJEKTOV STAVBY
C84: Kód: | L84: =K5 -> 3214
C85: Stavba: | L85: =K6 -> Rekonštrukcia striech na objekte Domova mládeže a jedálne budovy školy - PD
C87: Miesto: | L87: =IF(K8="","",K8) | AI87: Dátum: | AM87: =IF(AN8= "","",AN8) -> 11. 3. 2026
C89: Objednávateľ: | L89: =IF(E11= "","",E11) | AI89: Projektant: | AM89: =IF(E17="","",E17) | AS89: Informatívne údaje z listov zákaziek
C90: Zhotoviteľ: | L90: =IF(E14="","",E14) -> Swietelsky-Slovakia spol. s r.o. | AI90: Spracovateľ: | AM90: =IF(E20="","",E20)
C92: Kód | I92: Popis | AG92: Cena bez DPH [EUR] | AN92: Cena s DPH [EUR] | AQ92: Typ | AS92: z toho Ostat._x000D_ náklady [EUR] | AT92: DPH [EUR] | AU92: Normohodiny [h] | AV92: DPH základná [EUR] | AW92: DPH znížená [EUR] | AX92: DPH základná prenesená_x000D_ [EUR] | AY92: DPH znížená prenesená_x000D_ [EUR] | AZ92: Základňa_x000D_ DPH základná | BA92: Základňa_x000D_ DPH znížená | BB92: Základňa_x000D_ DPH zákl. prenesená | BC92: Základňa_x000D_ DPH zníž. prenesená | BD92: Základňa_x000D_ DPH nulová
C94: Náklady z rozpočtov | AG94: =ROUND(AG95,2) -> 234121.21 | AN94: =SUM(AG94,AT94) -> 287969.09 | AS94: =ROUND(AS95,2) -> 0 | AT94: =ROUND(SUM(AV94:AW94),2) -> 53847.88 | AU94: =ROUND(AU95,5) -> 3222.2203 | AV94: =ROUND(AZ94*L29,2) -> 0 | AW94: =ROUND(BA94*L30,2) -> 53847.88 | AX94: =ROUND(BB94*L29,2) -> 0 | AY94: =ROUND(BC94*L30,2) -> 0 | AZ94: =ROUND(AZ95,2) -> 0 | BA94: =ROUND(BA95,2) -> 234121.21 | BB94: =ROUND(BB95,2) -> 0 | BC94: =ROUND(BC95,2) -> 0 | BD94: =ROUND(BD95,2) -> 0 | BS94: D | BT94: 0 | BU94: ###NOIMPORT### | BV94: IMPORT | BW94: {f4993a4e-5b43-47c6-9b4e-14dd18bcbc8b} | BX94: {00000000-0000-0000-0000-000000000000}
D95: SO 02 | J95: Plochá strecha | AG95: =ROUND(SUM(AG96:AG98),2) -> 234121.21 | AN95: =SUM(AG95,AT95) -> 287969.09 | AQ95: STA | AS95: =ROUND(SUM(AS96:AS98),2) -> 0 | AT95: =ROUND(SUM(AV95:AW95),2) -> 53847.88 | AU95: =ROUND(SUM(AU96:AU98),5) -> 3222.2203 | AV95: =ROUND(AZ95*L29,2) -> 0 | AW95: =ROUND(BA95*L30,2) -> 53847.88 | AX95: =ROUND(BB95*L29,2) -> 0 | AY95: =ROUND(BC95*L30,2) -> 0 | AZ95: =ROUND(SUM(AZ96:AZ98),2) -> 0 | BA95: =ROUND(SUM(BA96:BA98),2) -> 234121.21 | BB95: =ROUND(SUM(BB96:BB98),2) -> 0 | BC95: =ROUND(SUM(BC96:BC98),2) -> 0 | BD95: =ROUND(SUM(BD96:BD98),2) -> 0 | BS95: D | BT95: 1 | BU95: ###NOIMPORT### | BV95: IMPORT | BW95: {5c5de0c1-e957-4420-bea3-cad141010c1e} | BX95: {f4993a4e-5b43-47c6-9b4e-14dd18bcbc8b} | CM95: 0
A96: / | E96: SO 02.1 | K96: Plochá strecha - búracie práce | AG96: ='SO 02.1 - Plochá strecha ...'!J32 -> 60768.4 | AN96: =SUM(AG96,AT96) -> 74745.13 | AQ96: Časť | AS96: 0 | AT96: =ROUND(SUM(AV96:AW96),2) -> 13976.73 | AU96: ='SO 02.1 - Plochá strecha ...'!P128 -> 1725.6523 | AV96: ='SO 02.1 - Plochá strecha ...'!J35 -> 0 | AW96: ='SO 02.1 - Plochá strecha ...'!J36 -> 13976.73 | AX96: ='SO 02.1 - Plochá strecha ...'!J37 -> 0 | AY96: ='SO 02.1 - Plochá strecha ...'!J38 -> 0 | AZ96: ='SO 02.1 - Plochá strecha ...'!F35 -> 0 | BA96: ='SO 02.1 - Plochá strecha ...'!F36 -> 60768.4 | BB96: ='SO 02.1 - Plochá strecha ...'!F37 -> 0 | BC96: ='SO 02.1 - Plochá strecha ...'!F38 -> 0 | BD96: ='SO 02.1 - Plochá strecha ...'!F39 -> 0 | BT96: 2 | BV96: IMPORT | BW96: {b03de026-2f65-40e2-ae08-50c43293f577} | BX96: {5c5de0c1-e957-4420-bea3-cad141010c1e}
A97: / | E97: SO 02.2 | K97: Plochá strecha - nový stav | AG97: ='SO 02.2 - Plochá strecha ...'!J32 -> 163287.4 | AN97: =SUM(AG97,AT97) -> 200843.5 | AQ97: Časť | AS97: 0 | AT97: =ROUND(SUM(AV97:AW97),2) -> 37556.1 | AU97: ='SO 02.2 - Plochá strecha ...'!P132 -> 1496.568 | AV97: ='SO 02.2 - Plochá strecha ...'!J35 -> 0 | AW97: ='SO 02.2 - Plochá strecha ...'!J36 -> 37556.1 | AX97: ='SO 02.2 - Plochá strecha ...'!J37 -> 0 | AY97: ='SO 02.2 - Plochá strecha ...'!J38 -> 0 | AZ97: ='SO 02.2 - Plochá strecha ...'!F35 -> 0 | BA97: ='SO 02.2 - Plochá strecha ...'!F36 -> 163287.4 | BB97: ='SO 02.2 - Plochá strecha ...'!F37 -> 0 | BC97: ='SO 02.2 - Plochá strecha ...'!F38 -> 0 | BD97: ='SO 02.2 - Plochá strecha ...'!F39 -> 0 | BT97: 2 | BV97: IMPORT | BW97: {82a0fdd5-a33a-404d-9ed3-a66a16c6e2ab} | BX97: {5c5de0c1-e957-4420-bea3-cad141010c1e}
A98: / | E98: SO 02.3 | K98: Bleskozvod a uzemnenie | AG98: ='SO 02.3 - Bleskozvod a uz...'!J32 -> 10065.41 | AN98: =SUM(AG98,AT98) -> 12380.45 | AQ98: Časť | AS98: 0 | AT98: =ROUND(SUM(AV98:AW98),2) -> 2315.04 | AU98: ='SO 02.3 - Bleskozvod a uz...'!P130 -> 0 | AV98: ='SO 02.3 - Bleskozvod a uz...'!J35 -> 0 | AW98: ='SO 02.3 - Bleskozvod a uz...'!J36 -> 2315.04 | AX98: ='SO 02.3 - Bleskozvod a uz...'!J37 -> 0 | AY98: ='SO 02.3 - Bleskozvod a uz...'!J38 -> 0 | AZ98: ='SO 02.3 - Bleskozvod a uz...'!F35 -> 0 | BA98: ='SO 02.3 - Bleskozvod a uz...'!F36 -> 10065.41 | BB98: ='SO 02.3 - Bleskozvod a uz...'!F37 -> 0 | BC98: ='SO 02.3 - Bleskozvod a uz...'!F38 -> 0 | BD98: ='SO 02.3 - Bleskozvod a uz...'!F39 -> 0 | BT98: 2 | BV98: IMPORT | BW98: {c7facb9c-9e4e-4203-bef5-50d3d89992a5} | BX98: {5c5de0c1-e957-4420-bea3-cad141010c1e}

Sheet SO 02.1 - Plochá strecha ...
AT2: {b03de026-2f65-40e2-ae08-50c43293f577}
AT3: 0
D4: KRYCÍ LIST ROZPOČTU | M4: v --- nižšie sa nachádzajú doplnkové a pomocné údaje k zostavám --- v | AT4: False
D6: Stavba:
E7: ='Rekapitulácia stavby'!K6 -> Rekonštrukcia striech na objekte Domova mládeže a jedálne budovy školy - PD
D8: Objekt:
E9: SO 02 - Plochá strecha
D10: Časť:
E11: SO 02.1 - Plochá strecha - búracie práce
D13: JKSO: | I13: ČS:
D14: Miesto: | I14: Dátum: | J14: ='Rekapitulácia stavby'!AN8 -> 11. 3. 2026
D16: Objednávateľ: | I16: IČO:
I17: IČ DPH:
D19: Zhotoviteľ: | I19: IČO: | J19: 00896225
E20: Swietelsky-Slovakia spol. s r.o. | I20: IČ DPH: | J20: SK2020294144
D22: Projektant: | I22: IČO:
I23: IČ DPH:
D25: Spracovateľ: | I25: IČO:
I26: IČ DPH:
D28: Poznámka:
D32: Cena bez DPH | J32: =ROUND(J128, 2) -> 60768.4
F34: Základ dane | I34: Sadzba dane | J34: Výška dane
D35: DPH | E35: základná | F35: =ROUND((SUM(BE128:BE152)), 2) -> 0 | I35: 0.23 | J35: =ROUND(((SUM(BE128:BE152))*I35), 2) -> 0
E36: znížená | F36: =ROUND((SUM(BF128:BF152)), 2) -> 60768.4 | I36: 0.23 | J36: =ROUND(((SUM(BF128:BF152))*I36), 2) -> 13976.73
E37: zákl. prenesená | F37: =ROUND((SUM(BG128:BG152)), 2) -> 0 | I37: 0.23 | J37: =0 -> 0
E38: zníž. prenesená | F38: =ROUND((SUM(BH128:BH152)), 2) -> 0 | I38: 0.23 | J38: =0 -> 0
E39: nulová | F39: =ROUND((SUM(BI128:BI152)), 2) -> 0 | I39: 0 | J39: =0 -> 0
D41: Cena s DPH | G41: v | H41: EUR | J41: =SUM(J32:J39) -> 74745.13
D50: Projektant | G50: Spracovateľ
D61: Dátum a podpis: | F61: Pečiatka | G61: Dátum a podpis: | J61: Pečiatka
D65: Objednávateľ | G65: Zhotoviteľ
D76: Dátum a podpis: | F76: Pečiatka | G76: Dátum a podpis: | J76: Pečiatka
C82: REKAPITULÁCIA ROZPOČTU
C84: Stavba:
E85: =E7 -> Rekonštrukcia striech na objekte Domova mládeže a jedálne budovy školy - PD
C86: Objekt:
E87: SO 02 - Plochá strecha
C88: Časť:
E89: =E11 -> SO 02.1 - Plochá strecha - búracie práce
C91: Miesto: | F91: =F14 | I91: Dátum: | J91: =IF(J14="","",J14) -> 11. 3. 2026
C93: Objednávateľ: | F93: =E17 | I93: Projektant: | J93: =E23
C94: Zhotoviteľ: | F94: =IF(E20="","",E20) -> Swietelsky-Slovakia spol. s r.o. | I94: Spracovateľ: | J94: =E26
C96: Kód dielu - Popis | J96: Cena celkom [EUR]
C98: Náklady z rozpočtu | J98: =J128 -> 60768.4 | AU98: -1
D99: HSV - Práce a dodávky HSV | J99: =J129 -> 58337.07
D100: 6 - Úpravy povrchov, podlahy, osadenie | J100: =J130 -> 4821.87
D101: 9 - Ostatné konštrukcie a práce-búranie | J101: =J132 -> 53515.2
D102: PSV - Práce a dodávky PSV | J102: =J141 -> 2431.33
D103: 712 - Izolácie striech, povlakové krytiny | J103: =J142 -> 599.88
D104: 713 - Izolácie tepelné | J104: =J144 -> 745.65
D105: 721 - Zdravotechnika - vnútorná kanalizácia | J105: =J146 -> 908.5
D106: 764 - Konštrukcie klampiarske | J106: =J150 -> 177.3
C113: ROZPOČET
C115: Stavba:
E116: =E7 -> Rekonštrukcia striech na objekte Domova mládeže a jedálne budovy školy - PD
C117: Objekt:
E118: SO 02 - Plochá strecha
C119: Časť:
E120: =E11 -> SO 02.1 - Plochá strecha - búracie práce
C122: Miesto: | F122: =F14 | I122: Dátum: | J122: =IF(J14="","",J14) -> 11. 3. 2026
C124: Objednávateľ: | F124: =E17 | I124: Projektant: | J124: =E23
C125: Zhotoviteľ: | F125: =IF(E20="","",E20) -> Swietelsky-Slovakia spol. s r.o. | I125: Spracovateľ: | J125: =E26
C127: PČ | D127: Typ | E127: Kód | F127: Popis | G127: MJ | H127: Množstvo | I127: J.cena [EUR] | J127: Cena celkom [EUR] | K127: Cenová sústava | N127: DPH | O127: J. Nh [h] | P127: Nh celkom [h] | Q127: J. hmotnosť [t] | R127: Hmotnosť celkom [t] | S127: J. suť [t] | T127: Suť Celkom [t]
C128: Náklady z rozpočtu | J128: =BK128 -> 60768.4 | P128: =P129+P141 -> 1725.6523 | R128: =R129+R141 -> 0 | T128: =T129+T141 -> 235.38058 | AT128: D | AU128: -1 | BK128: =BK129+BK141 -> 60768.4
D129: D | E129: HSV | F129: Práce a dodávky HSV | J129: =BK129 -> 58337.07 | P129: =P130+P132 -> 1650.8427 | R129: =R130+R132 -> 0 | T129: =T130+T132 -> 224.256 | AR129: 1 | AT129: D | AU129: 0 | AY129: ROZPOCET | BK129: =BK130+BK132 -> 58337.07
D130: D | E130: 6 | F130: Úpravy povrchov, podlahy, osadenie | J130: =BK130 -> 4821.87 | P130: =P131 -> 255.39846 | R130: =R131 -> 0 | T130: =T131 -> 0 | AR130: 1 | AT130: D | AU130: 1 | AY130: ROZPOCET | BK130: =BK131 -> 4821.87
C131: 1 | D131: K | E131: 622903111.S1 | F131: Očist., nosného muriva alebo betónu, múrov a valov pred začatím opráv ručne | G131: m2 | H131: 697.81 | I131: 6.91 | J131: =ROUND(I131*H131,2) -> 4821.87 | N131: znížená | O131: 0.366 | P131: =O131*H131 -> 255.39846 | Q131: 0 | R131: =Q131*H131 -> 0 | S131: 0 | T131: =S131*H131 -> 0 | AR131: 4 | AT131: K | AU131: 2 | AY131: ROZPOCET | BE131: =IF(N131="základná",J131,0) -> 0 | BF131: =IF(N131="znížená",J131,0) -> 4821.87 | BG131: =IF(N131="zákl. prenesená",J131,0) -> 0 | BH131: =IF(N131="zníž. prenesená",J131,0) -> 0 | BI131: =IF(N131="nulová",J131,0) -> 0 | BJ131: 2 | BK131: =ROUND(I131*H131,2) -> 4821.87 | BL131: 4 | BM131: 1659232079
D132: D | E132: 9 | F132: Ostatné konštrukcie a práce-búranie | J132: =BK132 -> 53515.2 | P132: =SUM(P133:P140) -> 1395.4442 | R132: =SUM(R133:R140) -> 0 | T132: =SUM(T133:T140) -> 224.256 | AR132: 1 | AT132: D | AU132: 1 | AY132: ROZPOCET | BK132: =SUM(BK133:BK140) -> 53515.2
C133: 2 | D133: K | E133: 963012520.S | F133: Búranie stropov z dosiek alebo panelov zo železobetónu prefabrikovaných s dutinami hr. nad 140 mm, -1,60000t | G133: m3 | H133: 140.16 | I133: 160.19 | J133: =ROUND(I133*H133,2) -> 22452.23 | N133: znížená | O133: 4.703 | P133: =O133*H133 -> 659.17248 | Q133: 0 | R133: =Q133*H133 -> 0 | S133: 1.6 | T133: =S133*H133 -> 224.256 | AR133: 4 | AT133: K | AU133: 2 | AY133: ROZPOCET | BE133: =IF(N133="základná",J133,0) -> 0 | BF133: =IF(N133="znížená",J133,0) -> 22452.23 | BG133: =IF(N133="zákl. prenesená",J133,0) -> 0 | BH133: =IF(N133="zníž. prenesená",J133,0) -> 0 | BI133: =IF(N133="nulová",J133,0) -> 0 | BJ133: 2 | BK133: =ROUND(I133*H133,2) -> 22452.23 | BL133: 4 | BM133: 1270247292
C134: 3 | D134: K | E134: 979011111.S | F134: Zvislá doprava sutiny a vybúraných hmôt za prvé podlažie nad alebo pod základným podlažím | G134: t | H134: 235.381 | I134: 14.07 | J134: =ROUND(I134*H134,2) -> 3311.81 | N134: znížená | O134: 0.882 | P134: =O134*H134 -> 207.60604 | Q134: 0 | R134: =Q134*H134 -> 0 | S134: 0 | T134: =S134*H134 -> 0 | AR134: 4 | AT134: K | AU134: 2 | AY134: ROZPOCET | BE134: =IF(N134="základná",J134,0) -> 0 | BF134: =IF(N134="znížená",J134,0) -> 3311.81 | BG134: =IF(N134="zákl. prenesená",J134,0) -> 0 | BH134: =IF(N134="zníž. prenesená",J134,0) -> 0 | BI134: =IF(N134="nulová",J134,0) -> 0 | BJ134: 2 | BK134: =ROUND(I134*H134,2) -> 3311.81 | BL134: 4 | BM134: -1444133479
C135: 4 | D135: K | E135: 979011121.S | F135: Zvislá doprava sutiny a vybúraných hmôt za každé ďalšie podlažie | G135: t | H135: 235.381 | I135: 10.43 | J135: =ROUND(I135*H135,2) -> 2455.02 | N135: znížená | O135: 0.618 | P135: =O135*H135 -> 145.46546 | Q135: 0 | R135: =Q135*H135 -> 0 | S135: 0 | T135: =S135*H135 -> 0 | AR135: 4 | AT135: K | AU135: 2 | AY135: ROZPOCET | BE135: =IF(N135="základná",J135,0) -> 0 | BF135: =IF(N135="znížená",J135,0) -> 2455.02 | BG135: =IF(N135="zákl. prenesená",J135,0) -> 0 | BH135: =IF(N135="zníž. prenesená",J135,0) -> 0 | BI135: =IF(N135="nulová",J135,0) -> 0 | BJ135: 2 | BK135: =ROUND(I135*H135,2) -> 2455.02 | BL135: 4 | BM135: 1930344428
C136: 5 | D136: K | E136: 979081111.S | F136: Odvoz sutiny a vybúraných hmôt na skládku do 1 km | G136: t | H136: 235.381 | I136: 17.73 | J136: =ROUND(I136*H136,2) -> 4173.31 | N136: znížená | O136: 0.598 | P136: =O136*H136 -> 140.75784 | Q136: 0 | R136: =Q136*H136 -> 0 | S136: 0 | T136: =S136*H136 -> 0 | AR136: 4 | AT136: K | AU136: 2 | AY136: ROZPOCET | BE136: =IF(N136="základná",J136,0) -> 0 | BF136: =IF(N136="znížená",J136,0) -> 4173.31 | BG136: =IF(N136="zákl. prenesená",J136,0) -> 0 | BH136: =IF(N136="zníž. prenesená",J136,0) -> 0 | BI136: =IF(N136="nulová",J136,0) -> 0 | BJ136: 2 | BK136: =ROUND(I136*H136,2) -> 4173.31 | BL136: 4 | BM136: 523111198
C137: 6 | D137: K | E137: 979081121.S | F137: Odvoz sutiny a vybúraných hmôt na skládku za každý ďalší 1 km | G137: t | H137: 4707.62 | I137: 0.49 | J137: =ROUND(I137*H137,2) -> 2306.73 | N137: znížená | O137: 0.007 | P137: =O137*H137 -> 32.95334 | Q137: 0 | R137: =Q137*H137 -> 0 | S137: 0 | T137: =S137*H137 -> 0 | AR137: 4 | AT137: K | AU137: 2 | AY137: ROZPOCET | BE137: =IF(N137="základná",J137,0) -> 0 | BF137: =IF(N137="znížená",J137,0) -> 2306.73 | BG137: =IF(N137="zákl. prenesená",J137,0) -> 0 | BH137: =IF(N137="zníž. prenesená",J137,0) -> 0 | BI137: =IF(N137="nulová",J137,0) -> 0 | BJ137: 2 | BK137: =ROUND(I137*H137,2) -> 2306.73 | BL137: 4 | BM137: 1122820081
C138: 7 | D138: K | E138: 979082111.S | F138: Vnútrostavenisková doprava sutiny a vybúraných hmôt do 10 m | G138: t | H138: 235.381 | I138: 15.26 | J138: =ROUND(I138*H138,2) -> 3591.91 | N138: znížená | O138: 0.89 | P138: =O138*H138 -> 209.48909 | Q138: 0 | R138: =Q138*H138 -> 0 | S138: 0 | T138: =S138*H138 -> 0 | AR138: 4 | AT138: K | AU138: 2 | AY138: ROZPOCET | BE138: =IF(N138="základná",J138,0) -> 0 | BF138: =IF(N138="znížená",J138,0) -> 3591.91 | BG138: =IF(N138="zákl. prenesená",J138,0) -> 0 | BH138: =IF(N138="zníž. prenesená",J138,0) -> 0 | BI138: =IF(N138="nulová",J138,0) -> 0 | BJ138: 2 | BK138: =ROUND(I138*H138,2) -> 3591.91 | BL138: 4 | BM138: 234317312
C139: 8 | D139: K | E139: 979089612.S | F139: Poplatok za skládku - iné odpady zo stavieb a demolácií (17 09), ostatné | G139: t | H139: 235.381 | I139: 62.87 | J139: =ROUND(I139*H139,2) -> 14798.4 | N139: znížená | O139: 0 | P139: =O139*H139 -> 0 | Q139: 0 | R139: =Q139*H139 -> 0 | S139: 0 | T139: =S139*H139 -> 0 | AR139: 4 | AT139: K | AU139: 2 | AY139: ROZPOCET | BE139: =IF(N139="základná",J139,0) -> 0 | BF139: =IF(N139="znížená",J139,0) -> 14798.4 | BG139: =IF(N139="zákl. prenesená",J139,0) -> 0 | BH139: =IF(N139="zníž. prenesená",J139,0) -> 0 | BI139: =IF(N139="nulová",J139,0) -> 0 | BJ139: 2 | BK139: =ROUND(I139*H139,2) -> 14798.4 | BL139: 4 | BM139: 1828803791
C140: 9 | D140: K | E140: 979089713.S | F140: Prenájom kontajneru 7 m3 | G140: ks | H140: 3 | I140: 141.93 | J140: =ROUND(I140*H140,2) -> 425.79 | N140: znížená | O140: 0 | P140: =O140*H140 -> 0 | Q140: 0 | R140: =Q140*H140 -> 0 | S140: 0 | T140: =S140*H140 -> 0 | AR140: 4 | AT140: K | AU140: 2 | AY140: ROZPOCET | BE140: =IF(N140="základná",J140,0) -> 0 | BF140: =IF(N140="znížená",J140,0) -> 425.79 | BG140: =IF(N140="zákl. prenesená",J140,0) -> 0 | BH140: =IF(N140="zníž. prenesená",J140,0) -> 0 | BI140: =IF(N140="nulová",J140,0) -> 0 | BJ140: 2 | BK140: =ROUND(I140*H140,2) -> 425.79 | BL140: 4 | BM140: -642942940
D141: D | E141: PSV | F141: Práce a dodávky PSV | J141: =BK141 -> 2431.33 | P141: =P142+P144+P146+P150 -> 74.80964 | R141: =R142+R144+R146+R150 -> 0 | T141: =T142+T144+T146+T150 -> 11.12458 | AR141: 2 | AT141: D | AU141: 0 | AY141: ROZPOCET | BK141: =BK142+BK144+BK146+BK150 -> 2431.33
D142: D | E142: 712 | F142: Izolácie striech, povlakové krytiny | J142: =BK142 -> 599.88 | P142: =P143 -> 32.2368 | R142: =R143 -> 0 | T142: =T143 -> 5.6064 | AR142: 2 | AT142: D | AU142: 1 | AY142: ROZPOCET | BK142: =BK143 -> 599.88
C143: 10 | D143: K | E143: 712300832.S | F143: Odstránenie povlakovej krytiny na strechách plochých 10° dvojvrstvovej, -0,01000t | G143: m2 | H143: 560.64 | I143: 1.07 | J143: =ROUND(I143*H143,2) -> 599.88 | N143: znížená | O143: 0.0575 | P143: =O143*H143 -> 32.2368 | Q143: 0 | R143: =Q143*H143 -> 0 | S143: 0.01 | T143: =S143*H143 -> 5.6064 | AR143: 16 | AT143: K | AU143: 2 | AY143: ROZPOCET | BE143: =IF(N143="základná",J143,0) -> 0 | BF143: =IF(N143="znížená",J143,0) -> 599.88 | BG143: =IF(N143="zákl. prenesená",J143,0) -> 0 | BH143: =IF(N143="zníž. prenesená",J143,0) -> 0 | BI143: =IF(N143="nulová",J143,0) -> 0 | BJ143: 2 | BK143: =ROUND(I143*H143,2) -> 599.88 | BL143: 16 | BM143: -1152844051
D144: D | E144: 713 | F144: Izolácie tepelné | J144: =BK144 -> 745.65 | P144: =P145 -> 31.39584 | R144: =R145 -> 0 | T144: =T145 -> 5.04576 | AR144: 2 | AT144: D | AU144: 1 | AY144: ROZPOCET | BK144: =BK145 -> 745.65
C145: 11 | D145: K | E145: 713000040.S | F145: Odstránenie nadstresnej tepelnej izolácie striech plochých kladenej voľne z vláknitých materiálov hr. do 10 cm -0,009t | G145: m2 | H145: 560.64 | I145: 1.33 | J145: =ROUND(I145*H145,2) -> 745.65 | N145: znížená | O145: 0.056 | P145: =O145*H145 -> 31.39584 | Q145: 0 | R145: =Q145*H145 -> 0 | S145: 0.009 | T145: =S145*H145 -> 5.04576 | AR145: 16 | AT145: K | AU145: 2 | AY145: ROZPOCET | BE145: =IF(N145="základná",J145,0) -> 0 | BF145: =IF(N145="znížená",J145,0) -> 745.65 | BG145: =IF(N145="zákl. prenesená",J145,0) -> 0 | BH145: =IF(N145="zníž. prenesená",J145,0) -> 0 | BI145: =IF(N145="nulová",J145,0) -> 0 | BJ145: 2 | BK145: =ROUND(I145*H145,2) -> 745.65 | BL145: 16 | BM145: -1362129184
D146: D | E146: 721 | F146: Zdravotechnika - vnútorná kanalizácia | J146: =BK146 -> 908.5 | P146: =SUM(P147:P149) -> 2.816 | R146: =SUM(R147:R149) -> 0 | T146: =SUM(T147:T149) -> 0.14197 | AR146: 2 | AT146: D | AU146: 1 | AY146: ROZPOCET | BK146: =SUM(BK147:BK149) -> 908.5
C147: 12 | D147: K | E147: 721.R1 | F147: Demontáž a odstránenie existujúcich kanalizačných odvetrávacích zostáv. | G147: ks | H147: 19 | I147: 33.49 | J147: =ROUND(I147*H147,2) -> 636.31 | N147: znížená | O147: 0.056 | P147: =O147*H147 -> 1.064 | Q147: 0 | R147: =Q147*H147 -> 0 | S147: 0.00061 | T147: =S147*H147 -> 0.01159 | AR147: 16 | AT147: K | AU147: 2 | AY147: ROZPOCET | BE147: =IF(N147="základná",J147,0) -> 0 | BF147: =IF(N147="znížená",J147,0) -> 636.31 | BG147: =IF(N147="zákl. prenesená",J147,0) -> 0 | BH147: =IF(N147="zníž. prenesená",J147,0) -> 0 | BI147: =IF(N147="nulová",J147,0) -> 0 | BJ147: 2 | BK147: =ROUND(I147*H147,2) -> 636.31 | BL147: 16 | BM147: -1285895304
C148: 13 | D148: K | E148: 721.R2 | F148: Demontáž a odstránenie existujúcich vetracích potrubí a ventilačných hlavích v celom rozsahu | G148: ks | H148: 3 | I148: 50.83 | J148: =ROUND(I148*H148,2) -> 152.49 | N148: znížená | O148: 0.056 | P148: =O148*H148 -> 0.168 | Q148: 0 | R148: =Q148*H148 -> 0 | S148: 0.00061 | T148: =S148*H148 -> 0.00183 | AR148: 16 | AT148: K | AU148: 2 | AY148: ROZPOCET | BE148: =IF(N148="základná",J148,0) -> 0 | BF148: =IF(N148="znížená",J148,0) -> 152.49 | BG148: =IF(N148="zákl. prenesená",J148,0) -> 0 | BH148: =IF(N148="zníž. prenesená",J148,0) -> 0 | BI148: =IF(N148="nulová",J148,0) -> 0 | BJ148: 2 | BK148: =ROUND(I148*H148,2) -> 152.49 | BL148: 16 | BM148: -1585531123
C149: 14 | D149: K | E149: 721.R3 | F149: Demontáž vpustu podlahového strešného | G149: ks | H149: 3 | I149: 39.9 | J149: =ROUND(I149*H149,2) -> 119.7 | N149: znížená | O149: 0.528 | P149: =O149*H149 -> 1.584 | Q149: 0 | R149: =Q149*H149 -> 0 | S149: 0.04285 | T149: =S149*H149 -> 0.12855 | AR149: 16 | AT149: K | AU149: 2 | AY149: ROZPOCET | BE149: =IF(N149="základná",J149,0) -> 0 | BF149: =IF(N149="znížená",J149,0) -> 119.7 | BG149: =IF(N149="zákl. prenesená",J149,0) -> 0 | BH149: =IF(N149="zníž. prenesená",J149,0) -> 0 | BI149: =IF(N149="nulová",J149,0) -> 0 | BJ149: 2 | BK149: =ROUND(I149*H149,2) -> 119.7 | BL149: 16 | BM149: -185358338
D150: D | E150: 764 | F150: Konštrukcie klampiarske | J150: =BK150 -> 177.3 | P150: =SUM(P151:P152) -> 8.361 | R150: =SUM(R151:R152) -> 0 | T150: =SUM(T151:T152) -> 0.33045 | AR150: 2 | AT150: D | AU150: 1 | AY150: ROZPOCET | BK150: =SUM(BK151:BK152) -> 177.3
C151: 15 | D151: K | E151: 764361810.S | F151: Demontáž strešného okna a poklopu na krytine vlnitej a korýt., alebo hlad. a drážk. do 30st, -0,02000t | G151: ks | H151: 6 | I151: 2.1 | J151: =ROUND(I151*H151,2) -> 12.6 | N151: znížená | O151: 0.082 | P151: =O151*H151 -> 0.492 | Q151: 0 | R151: =Q151*H151 -> 0 | S151: 0.02 | T151: =S151*H151 -> 0.12 | AR151: 16 | AT151: K | AU151: 2 | AY151: ROZPOCET | BE151: =IF(N151="základná",J151,0) -> 0 | BF151: =IF(N151="znížená",J151,0) -> 12.6 | BG151: =IF(N151="zákl. prenesená",J151,0) -> 0 | BH151: =IF(N151="zníž. prenesená",J151,0) -> 0 | BI151: =IF(N151="nulová",J151,0) -> 0 | BJ151: 2 | BK151: =ROUND(I151*H151,2) -> 12.6 | BL151: 16 | BM151: 152756486
C152: 16 | D152: K | E152: 764430840.S | F152: Demontáž oplechovania múrov a nadmuroviek rš od 330 do 500 mm, -0,00230t | G152: m | H152: 91.5 | I152: 1.8 | J152: =ROUND(I152*H152,2) -> 164.7 | N152: znížená | O152: 0.086 | P152: =O152*H152 -> 7.869 | Q152: 0 | R152: =Q152*H152 -> 0 | S152: 0.0023 | T152: =S152*H152 -> 0.21045 | AR152: 16 | AT152: K | AU152: 2 | AY152: ROZPOCET | BE152: =IF(N152="základná",J152,0) -> 0 | BF152: =IF(N152="znížená",J152,0) -> 164.7 | BG152: =IF(N152="zákl. prenesená",J152,0) -> 0 | BH152: =IF(N152="zníž. prenesená",J152,0) -> 0 | BI152: =IF(N152="nulová",J152,0) -> 0 | BJ152: 2 | BK152: =ROUND(I152*H152,2) -> 164.7 | BL152: 16 | BM152: -1714506140

Sheet SO 02.2 - Plochá strecha ...
AT2: {82a0fdd5-a33a-404d-9ed3-a66a16c6e2ab}
AT3: 0
D4: KRYCÍ LIST ROZPOČTU | M4: v --- nižšie sa nachádzajú doplnkové a pomocné údaje k zostavám --- v | AT4: False
D6: Stavba:
E7: ='Rekapitulácia stavby'!K6 -> Rekonštrukcia striech na objekte Domova mládeže a jedálne budovy školy - PD
D8: Objekt:
E9: SO 02 - Plochá strecha
D10: Časť:
E11: SO 02.2 - Plochá strecha - nový stav
D13: JKSO: | I13: ČS:
D14: Miesto: | I14: Dátum: | J14: ='Rekapitulácia stavby'!AN8 -> 11. 3. 2026
D16: Objednávateľ: | I16: IČO:
I17: IČ DPH:
D19: Zhotoviteľ: | I19: IČO: | J19: 00896225
E20: Swietelsky-Slovakia spol. s r.o. | I20: IČ DPH: | J20: SK2020294144
D22: Projektant: | I22: IČO:
I23: IČ DPH:
D25: Spracovateľ: | I25: IČO:
I26: IČ DPH:
D28: Poznámka:
D32: Cena bez DPH | J32: =ROUND(J132, 2) -> 163287.4
F34: Základ dane | I34: Sadzba dane | J34: Výška dane
D35: DPH | E35: základná | F35: =ROUND((SUM(BE132:BE198)), 2) -> 0 | I35: 0.23 | J35: =ROUND(((SUM(BE132:BE198))*I35), 2) -> 0
E36: znížená | F36: =ROUND((SUM(BF132:BF198)), 2) -> 163287.4 | I36: 0.23 | J36: =ROUND(((SUM(BF132:BF198))*I36), 2) -> 37556.1
E37: zákl. prenesená | F37: =ROUND((SUM(BG132:BG198)), 2) -> 0 | I37: 0.23 | J37: =0 -> 0
E38: zníž. prenesená | F38: =ROUND((SUM(BH132:BH198)), 2) -> 0 | I38: 0.23 | J38: =0 -> 0
E39: nulová | F39: =ROUND((SUM(BI132:BI198)), 2) -> 0 | I39: 0 | J39: =0 -> 0
D41: Cena s DPH | G41: v | H41: EUR | J41: =SUM(J32:J39) -> 200843.5
D50: Projektant | G50: Spracovateľ
D61: Dátum a podpis: | F61: Pečiatka | G61: Dátum a podpis: | J61: Pečiatka
D65: Objednávateľ | G65: Zhotoviteľ
D76: Dátum a podpis: | F76: Pečiatka | G76: Dátum a podpis: | J76: Pečiatka
C82: REKAPITULÁCIA ROZPOČTU
C84: Stavba:
E85: =E7 -> Rekonštrukcia striech na objekte Domova mládeže a jedálne budovy školy - PD
C86: Objekt:
E87: SO 02 - Plochá strecha
C88: Časť:
E89: =E11 -> SO 02.2 - Plochá strecha - nový stav
C91: Miesto: | F91: =F14 | I91: Dátum: | J91: =IF(J14="","",J14) -> 11. 3. 2026
C93: Objednávateľ: | F93: =E17 | I93: Projektant: | J93: =E23
C94: Zhotoviteľ: | F94: =IF(E20="","",E20) -> Swietelsky-Slovakia spol. s r.o. | I94: Spracovateľ: | J94: =E26
C96: Kód dielu - Popis | J96: Cena celkom [EUR]
C98: Náklady z rozpočtu | J98: =J132 -> 163287.4 | AU98: -1
D99: HSV - Práce a dodávky HSV | J99: =J133 -> 24160.03
D100: 3 - Zvislé a kompletné konštrukcie | J100: =J134 -> 1404.62
D101: 4 - Vodorovné konštrukcie | J101: =J136 -> 83.31
D102: 6 - Úpravy povrchov, podlahy, osadenie | J102: =J138 -> 13148.03
D103: 9 - Ostatné konštrukcie a práce-búranie | J103: =J143 -> 7122.88
D104: 99 - Presun hmôt HSV | J104: =J148 -> 2401.19
D105: PSV - Práce a dodávky PSV | J105: =J150 -> 139127.37
D106: 711 - Izolácie proti vode a vlhkosti | J106: =J151 -> 1729.6
D107: 712 - Izolácie striech, povlakové krytiny | J107: =J157 -> 42924.53
D108: 713 - Izolácie tepelné | J108: =J176 -> 79563.92
D109: 764 - Konštrukcie klampiarske | J109: =J187 -> 5426.08
D110: 767 - Konštrukcie doplnkové kovové | J110: =J193 -> 9483.24
C117: ROZPOČET
C119: Stavba:
E120: =E7 -> Rekonštrukcia striech na objekte Domova mládeže a jedálne budovy školy - PD
C121: Objekt:
E122: SO 02 - Plochá strecha
C123: Časť:
E124: =E11 -> SO 02.2 - Plochá strecha - nový stav
C126: Miesto: | F126: =F14 | I126: Dátum: | J126: =IF(J14="","",J14) -> 11. 3. 2026
C128: Objednávateľ: | F128: =E17 | I128: Projektant: | J128: =E23
C129: Zhotoviteľ: | F129: =IF(E20="","",E20) -> Swietelsky-Slovakia spol. s r.o. | I129: Spracovateľ: | J129: =E26
C131: PČ | D131: Typ | E131: Kód | F131: Popis | G131: MJ | H131: Množstvo | I131: J.cena [EUR] | J131: Cena celkom [EUR] | K131: Cenová sústava | N131: DPH | O131: J. Nh [h] | P131: Nh celkom [h] | Q131: J. hmotnosť [t] | R131: Hmotnosť celkom [t] | S131: J. suť [t] | T131: Suť Celkom [t]
C132: Náklady z rozpočtu | J132: =BK132 -> 163287.4 | P132: =P133+P150 -> 1496.568 | R132: =R133+R150 -> 140.47333 | T132: =T133+T150 -> 0 | AT132: D | AU132: -1 | BK132: =BK133+BK150 -> 163287.4
D133: D | E133: HSV | F133: Práce a dodávky HSV | J133: =BK133 -> 24160.03 | P133: =P134+P136+P138+P143+P148 -> 514.25486 | R133: =R134+R136+R138+R143+R148 -> 120.38354 | T133: =T134+T136+T138+T143+T148 -> 0 | AR133: 1 | AT133: D | AU133: 0 | AY133: ROZPOCET | BK133: =BK134+BK136+BK138+BK143+BK148 -> 24160.03
D134: D | E134: 3 | F134: Zvislé a kompletné konštrukcie | J134: =BK134 -> 1404.62 | P134: =P135 -> 53.887234 | R134: =R135 -> 3.9854743 | T134: =T135 -> 0 | AR134: 1 | AT134: D | AU134: 1 | AY134: ROZPOCET | BK134: =BK135 -> 1404.62
C135: 1 | D135: K | E135: 319201311.S | F135: Vyrovnanie nerovného povrchu bez odsekania tehál hr.do 30 mm | G135: m2 | H135: 137.17 | I135: 10.24 | J135: =ROUND(I135*H135,2) -> 1404.62 | N135: znížená | O135: 0.39285 | P135: =O135*H135 -> 53.887234 | Q135: 0.029055 | R135: =Q135*H135 -> 3.9854743 | S135: 0 | T135: =S135*H135 -> 0 | AR135: 4 | AT135: K | AU135: 2 | AY135: ROZPOCET | BE135: =IF(N135="základná",J135,0) -> 0 | BF135: =IF(N135="znížená",J135,0) -> 1404.62 | BG135: =IF(N135="zákl. prenesená",J135,0) -> 0 | BH135: =IF(N135="zníž. prenesená",J135,0) -> 0 | BI135: =IF(N135="nulová",J135,0) -> 0 | BJ135: 2 | BK135: =ROUND(I135*H135,2) -> 1404.62 | BL135: 4 | BM135: 1269857113
D136: D | E136: 4 | F136: Vodorovné konštrukcie | J136: =BK136 -> 83.31 | P136: =P137 -> 3.24891 | R136: =R137 -> 0.13656738 | T136: =T137 -> 0 | AR136: 1 | AT136: D | AU136: 1 | AY136: ROZPOCET | BK136: =BK137 -> 83.31
C137: 2 | D137: K | E137: 411387531.S | F137: Zabetónov. otvoru s plochou do 0,25 m2, v stropoch zo železobetónu a tvárnicových a v klenbách | G137: ks | H137: 3 | I137: 27.77 | J137: =ROUND(I137*H137,2) -> 83.31 | N137: znížená | O137: 1.08297 | P137: =O137*H137 -> 3.24891 | Q137: 0.04552246 | R137: =Q137*H137 -> 0.13656738 | S137: 0 | T137: =S137*H137 -> 0 | AR137: 4 | AT137: K | AU137: 2 | AY137: ROZPOCET | BE137: =IF(N137="základná",J137,0) -> 0 | BF137: =IF(N137="znížená",J137,0) -> 83.31 | BG137: =IF(N137="zákl. prenesená",J137,0) -> 0 | BH137: =IF(N137="zníž. prenesená",J137,0) -> 0 | BI137: =IF(N137="nulová",J137,0) -> 0 | BJ137: 2 | BK137: =ROUND(I137*H137,2) -> 83.31 | BL137: 4 | BM137: 2032883953
D138: D | E138: 6 | F138: Úpravy povrchov, podlahy, osadenie | J138: =BK138 -> 13148.03 | P138: =SUM(P139:P142) -> 62.556948 | R138: =SUM(R139:R142) -> 100.12899 | T138: =SUM(T139:T142) -> 0 | AR138: 1 | AT138: D | AU138: 1 | AY138: ROZPOCET | BK138: =SUM(BK139:BK142) -> 13148.03
C139: 3 | D139: K | E139: 625250553.S | F139: Kontaktný zatepľovací systém soklovej alebo vodou namáhanej časti hr. 150 mm, skrutkovacie kotvy | G139: m2 | H139: 6.757 | I139: 56.62 | J139: =ROUND(I139*H139,2) -> 382.58 | N139: znížená | O139: 0.79406 | P139: =O139*H139 -> 5.3654634 | Q139: 0.014629 | R139: =Q139*H139 -> 0.098848153 | S139: 0 | T139: =S139*H139 -> 0 | AR139: 4 | AT139: K | AU139: 2 | AY139: ROZPOCET | BE139: =IF(N139="základná",J139,0) -> 0 | BF139: =IF(N139="znížená",J139,0) -> 382.58 | BG139: =IF(N139="zákl. prenesená",J139,0) -> 0 | BH139: =IF(N139="zníž. prenesená",J139,0) -> 0 | BI139: =IF(N139="nulová",J139,0) -> 0 | BJ139: 2 | BK139: =ROUND(I139*H139,2) -> 382.58 | BL139: 4 | BM139: -1913223738
C140: 4 | D140: K | E140: 631571015.S | F140: Násyp - ochranná krycia vrstva z praného kameniva s utlačením a urovnaním povrchu pre obrátené ploché strechy | G140: m3 | H140: 28.145 | I140: 160.36 | J140: =ROUND(I140*H140,2) -> 4513.33 | N140: znížená | O140: 2.03203 | P140: =O140*H140 -> 57.191484 | Q140: 2.04 | R140: =Q140*H140 -> 57.4158 | S140: 0 | T140: =S140*H140 -> 0 | AR140: 4 | AT140: K | AU140: 2 | AY140: ROZPOCET | BE140: =IF(N140="základná",J140,0) -> 0 | BF140: =IF(N140="znížená",J140,0) -> 4513.33 | BG140: =IF(N140="zákl. prenesená",J140,0) -> 0 | BH140: =IF(N140="zníž. prenesená",J140,0) -> 0 | BI140: =IF(N140="nulová",J140,0) -> 0 | BJ140: 2 | BK140: =ROUND(I140*H140,2) -> 4513.33 | BL140: 4 | BM140: 453547316
C141: 5 | D141: K | E141: 632452135.S1 | F141: Cementový poter z betonárky, pevnosti v tlaku 25 MPa, hr. 20-50 mm | G141: m2 | H141: 562.9 | I141: 14.04 | J141: =ROUND(I141*H141,2) -> 7903.12 | N141: znížená | O141: 0 | P141: =O141*H141 -> 0 | Q141: 0.075705 | R141: =Q141*H141 -> 42.614344 | S141: 0 | T141: =S141*H141 -> 0 | AR141: 4 | AT141: K | AU141: 2 | AY141: ROZPOCET | BE141: =IF(N141="základná",J141,0) -> 0 | BF141: =IF(N141="znížená",J141,0) -> 7903.12 | BG141: =IF(N141="zákl. prenesená",J141,0) -> 0 | BH141: =IF(N141="zníž. prenesená",J141,0) -> 0 | BI141: =IF(N141="nulová",J141,0) -> 0 | BJ141: 2 | BK141: =ROUND(I141*H141,2) -> 7903.12 | BL141: 4 | BM141: -899890892
C142: 6 | D142: K | E142: 771991101.S1 | F142: Zametanie podkladu | G142: m2 | H142: 562.9 | I142: 0.62 | J142: =ROUND(I142*H142,2) -> 349 | N142: znížená | O142: 0 | P142: =O142*H142 -> 0 | Q142: 0 | R142: =Q142*H142 -> 0 | S142: 0 | T142: =S142*H142 -> 0 | AR142: 16 | AT142: K | AU142: 2 | AY142: ROZPOCET | BE142: =IF(N142="základná",J142,0) -> 0 | BF142: =IF(N142="znížená",J142,0) -> 349 | BG142: =IF(N142="zákl. prenesená",J142,0) -> 0 | BH142: =IF(N142="zníž. prenesená",J142,0) -> 0 | BI142: =IF(N142="nulová",J142,0) -> 0 | BJ142: 2 | BK142: =ROUND(I142*H142,2) -> 349 | BL142: 16 | BM142: -1533195971
D143: D | E143: 9 | F143: Ostatné konštrukcie a práce-búranie | J143: =BK143 -> 7122.88 | P143: =SUM(P144:P147) -> 291.58811 | R143: =SUM(R144:R147) -> 16.132505 | T143: =SUM(T144:T147) -> 0 | AR143: 1 | AT143: D | AU143: 1 | AY143: ROZPOCET | BK143: =SUM(BK144:BK147) -> 7122.88
C144: 7 | D144: K | E144: 941941041.S | F144: Montáž lešenia ľahkého pracovného radového s podlahami šírky nad 1,00 do 1,20 m, výšky do 10 m | G144: m2 | H144: 313.2 | I144: 3.78 | J144: =ROUND(I144*H144,2) -> 1183.9 | N144: znížená | O144: 0.146 | P144: =O144*H144 -> 45.7272 | Q144: 0.02571057 | R144: =Q144*H144 -> 8.0525505 | S144: 0 | T144: =S144*H144 -> 0 | AR144: 4 | AT144: K | AU144: 2 | AY144: ROZPOCET | BE144: =IF(N144="základná",J144,0) -> 0 | BF144: =IF(N144="znížená",J144,0) -> 1183.9 | BG144: =IF(N144="zákl. prenesená",J144,0) -> 0 | BH144: =IF(N144="zníž. prenesená",J144,0) -> 0 | BI144: =IF(N144="nulová",J144,0) -> 0 | BJ144: 2 | BK144: =ROUND(I144*H144,2) -> 1183.9 | BL144: 4 | BM144: 395080225
C145: 8 | D145: K | E145: 941941291.S | F145: Príplatok za prvý a každý ďalší i začatý mesiac použitia lešenia ľahkého pracovného radového s podlahami šírky nad 1,00 do 1,20 m, výšky do 10 m | G145: m2 | H145: 626.4 | I145: 1.78 | J145: =ROUND(I145*H145,2) -> 1114.99 | N145: znížená | O145: 0.0062 | P145: =O145*H145 -> 3.88368 | Q145: 0 | R145: =Q145*H145 -> 0 | S145: 0 | T145: =S145*H145 -> 0 | AR145: 4 | AT145: K | AU145: 2 | AY145: ROZPOCET | BE145: =IF(N145="základná",J145,0) -> 0 | BF145: =IF(N145="znížená",J145,0) -> 1114.99 | BG145: =IF(N145="zákl. prenesená",J145,0) -> 0 | BH145: =IF(N145="zníž. prenesená",J145,0) -> 0 | BI145: =IF(N145="nulová",J145,0) -> 0 | BJ145: 2 | BK145: =ROUND(I145*H145,2) -> 1114.99 | BL145: 4 | BM145: -238095947
C146: 9 | D146: K | E146: 941941841.S | F146: Demontáž lešenia ľahkého pracovného radového s podlahami šírky nad 1,00 do 1,20 m, výšky do 10 m | G146: m2 | H146: 313.2 | I146: 2.48 | J146: =ROUND(I146*H146,2) -> 776.74 | N146: znížená | O146: 0.104 | P146: =O146*H146 -> 32.5728 | Q146: 0.02571 | R146: =Q146*H146 -> 8.052372 | S146: 0 | T146: =S146*H146 -> 0 | AR146: 4 | AT146: K | AU146: 2 | AY146: ROZPOCET | BE146: =IF(N146="základná",J146,0) -> 0 | BF146: =IF(N146="znížená",J146,0) -> 776.74 | BG146: =IF(N146="zákl. prenesená",J146,0) -> 0 | BH146: =IF(N146="zníž. prenesená",J146,0) -> 0 | BI146: =IF(N146="nulová",J146,0) -> 0 | BJ146: 2 | BK146: =ROUND(I146*H146,2) -> 776.74 | BL146: 4 | BM146: -1032170673
C147: 10 | D147: K | E147: 952901114.S | F147: Vyčistenie budov pri výške podlaží nad 4 m | G147: m2 | H147: 562.9 | I147: 7.19 | J147: =ROUND(I147*H147,2) -> 4047.25 | N147: znížená | O147: 0.37201 | P147: =O147*H147 -> 209.40443 | Q147: 4.9e-05 | R147: =Q147*H147 -> 0.0275821 | S147: 0 | T147: =S147*H147 -> 0 | AR147: 4 | AT147: K | AU147: 2 | AY147: ROZPOCET | BE147: =IF(N147="základná",J147,0) -> 0 | BF147: =IF(N147="znížená",J147,0) -> 4047.25 | BG147: =IF(N147="zákl. prenesená",J147,0) -> 0 | BH147: =IF(N147="zníž. prenesená",J147,0) -> 0 | BI147: =IF(N147="nulová",J147,0) -> 0 | BJ147: 2 | BK147: =ROUND(I147*H147,2) -> 4047.25 | BL147: 4 | BM147: -1585959750
D148: D | E148: 99 | F148: Presun hmôt HSV | J148: =BK148 -> 2401.19 | P148: =P149 -> 102.97366 | R148: =R149 -> 0 | T148: =T149 -> 0 | AR148: 1 | AT148: D | AU148: 1 | AY148: ROZPOCET | BK148: =BK149 -> 2401.19
C149: 11 | D149: K | E149: 998011001.S | F149: Presun hmôt pre budovy (801, 803, 812), zvislá konštr. z tehál, tvárnic, z kovu výšky do 6 m | G149: t | H149: 114.67 | I149: 20.94 | J149: =ROUND(I149*H149,2) -> 2401.19 | N149: znížená | O149: 0.898 | P149: =O149*H149 -> 102.97366 | Q149: 0 | R149: =Q149*H149 -> 0 | S149: 0 | T149: =S149*H149 -> 0 | AR149: 4 | AT149: K | AU149: 2 | AY149: ROZPOCET | BE149: =IF(N149="základná",J149,0) -> 0 | BF149: =IF(N149="znížená",J149,0) -> 2401.19 | BG149: =IF(N149="zákl. prenesená",J149,0) -> 0 | BH149: =IF(N149="zníž. prenesená",J149,0) -> 0 | BI149: =IF(N149="nulová",J149,0) -> 0 | BJ149: 2 | BK149: =ROUND(I149*H149,2) -> 2401.19 | BL149: 4 | BM149: -315209110
D150: D | E150: PSV | F150: Práce a dodávky PSV | J150: =BK150 -> 139127.37 | P150: =P151+P157+P176+P187+P193 -> 982.31312 | R150: =R151+R157+R176+R187+R193 -> 20.089789 | T150: =T151+T157+T176+T187+T193 -> 0 | AR150: 2 | AT150: D | AU150: 0 | AY150: ROZPOCET | BK150: =BK151+BK157+BK176+BK187+BK193 -> 139127.37
D151: D | E151: 711 | F151: Izolácie proti vode a vlhkosti | J151: =BK151 -> 1729.6 | P151: =SUM(P152:P156) -> 19.620397 | R151: =SUM(R152:R156) -> 0.2470953 | T151: =SUM(T152:T156) -> 0 | AR151: 2 | AT151: D | AU151: 1 | AY151: ROZPOCET | BK151: =SUM(BK152:BK156) -> 1729.6
C152: 12 | D152: K | E152: 711131102.S | F152: Zhotovenie geotextílie alebo tkaniny na plochu vodorovnú | G152: m2 | H152: 562.9 | I152: 0.75 | J152: =ROUND(I152*H152,2) -> 422.18 | N152: znížená | O152: 0.02702 | P152: =O152*H152 -> 15.209558 | Q152: 0 | R152: =Q152*H152 -> 0 | S152: 0 | T152: =S152*H152 -> 0 | AR152: 16 | AT152: K | AU152: 2 | AY152: ROZPOCET | BE152: =IF(N152="základná",J152,0) -> 0 | BF152: =IF(N152="znížená",J152,0) -> 422.18 | BG152: =IF(N152="zákl. prenesená",J152,0) -> 0 | BH152: =IF(N152="zníž. prenesená",J152,0) -> 0 | BI152: =IF(N152="nulová",J152,0) -> 0 | BJ152: 2 | BK152: =ROUND(I152*H152,2) -> 422.18 | BL152: 16 | BM152: 985447314
C153: 13 | D153: M | E153: 693110004500.S | F153: Geotextília polypropylénová netkaná 300 g/m2 | G153: m2 | H153: 647.335 | I153: 1.38 | J153: =ROUND(I153*H153,2) -> 893.32 | N153: znížená | O153: 0 | P153: =O153*H153 -> 0 | Q153: 0.0003 | R153: =Q153*H153 -> 0.1942005 | S153: 0 | T153: =S153*H153 -> 0 | AR153: 32 | AT153: M | AU153: 2 | AY153: ROZPOCET | BE153: =IF(N153="základná",J153,0) -> 0 | BF153: =IF(N153="znížená",J153,0) -> 893.32 | BG153: =IF(N153="zákl. prenesená",J153,0) -> 0 | BH153: =IF(N153="zníž. prenesená",J153,0) -> 0 | BI153: =IF(N153="nulová",J153,0) -> 0 | BJ153: 2 | BK153: =ROUND(I153*H153,2) -> 893.32 | BL153: 16 | BM153: 1408309359
C154: 14 | D154: K | E154: 711132102.S | F154: Zhotovenie geotextílie alebo tkaniny na plochu zvislú | G154: m2 | H154: 146.93 | I154: 0.78 | J154: =ROUND(I154*H154,2) -> 114.61 | N154: znížená | O154: 0.03002 | P154: =O154*H154 -> 4.4108386 | Q154: 0 | R154: =Q154*H154 -> 0 | S154: 0 | T154: =S154*H154 -> 0 | AR154: 16 | AT154: K | AU154: 2 | AY154: ROZPOCET | BE154: =IF(N154="základná",J154,0) -> 0 | BF154: =IF(N154="znížená",J154,0) -> 114.61 | BG154: =IF(N154="zákl. prenesená",J154,0) -> 0 | BH154: =IF(N154="zníž. prenesená",J154,0) -> 0 | BI154: =IF(N154="nulová",J154,0) -> 0 | BJ154: 2 | BK154: =ROUND(I154*H154,2) -> 114.61 | BL154: 16 | BM154: 221029925
C155: 15 | D155: M | E155: 693110004500.S | F155: Geotextília polypropylénová netkaná 300 g/m2 | G155: m2 | H155: 176.316 | I155: 1.45 | J155: =ROUND(I155*H155,2) -> 255.66 | N155: znížená | O155: 0 | P155: =O155*H155 -> 0 | Q155: 0.0003 | R155: =Q155*H155 -> 0.0528948 | S155: 0 | T155: =S155*H155 -> 0 | AR155: 32 | AT155: M | AU155: 2 | AY155: ROZPOCET | BE155: =IF(N155="základná",J155,0) -> 0 | BF155: =IF(N155="znížená",J155,0) -> 255.66 | BG155: =IF(N155="zákl. prenesená",J155,0) -> 0 | BH155: =IF(N155="zníž. prenesená",J155,0) -> 0 | BI155: =IF(N155="nulová",J155,0) -> 0 | BJ155: 2 | BK155: =ROUND(I155*H155,2) -> 255.66 | BL155: 16 | BM155: 555013264
C156: 16 | D156: K | E156: 998711201.S | F156: Presun hmôt pre izoláciu proti vode v objektoch výšky do 6 m | G156: % | H156: 16.858 | I156: 2.6 | J156: =ROUND(I156*H156,2) -> 43.83 | N156: znížená | O156: 0 | P156: =O156*H156 -> 0 | Q156: 0 | R156: =Q156*H156 -> 0 | S156: 0 | T156: =S156*H156 -> 0 | AR156: 16 | AT156: K | AU156: 2 | AY156: ROZPOCET | BE156: =IF(N156="základná",J156,0) -> 0 | BF156: =IF(N156="znížená",J156,0) -> 43.83 | BG156: =IF(N156="zákl. prenesená",J156,0) -> 0 | BH156: =IF(N156="zníž. prenesená",J156,0) -> 0 | BI156: =IF(N156="nulová",J156,0) -> 0 | BJ156: 2 | BK156: =ROUND(I156*H156,2) -> 43.83 | BL156: 16 | BM156: 1893234190
D157: D | E157: 712 | F157: Izolácie striech, povlakové krytiny | J157: =BK157 -> 42924.53 | P157: =SUM(P158:P175) -> 534.17053 | R157: =SUM(R158:R175) -> 7.649093 | T157: =SUM(T158:T175) -> 0 | AR157: 2 | AT157: D | AU157: 1 | AY157: ROZPOCET | BK157: =SUM(BK158:BK175) -> 42924.53
C158: 17 | D158: K | E158: 712311101.S | F158: Zhotovenie povlakovej krytiny striech plochých do 10° za studena náterom penetračným | G158: m2 | H158: 723.87 | I158: 1.17 | J158: =ROUND(I158*H158,2) -> 846.93 | N158: znížená | O158: 0.04302 | P158: =O158*H158 -> 31.140887 | Q158: 0 | R158: =Q158*H158 -> 0 | S158: 0 | T158: =S158*H158 -> 0 | AR158: 16 | AT158: K | AU158: 2 | AY158: ROZPOCET | BE158: =IF(N158="základná",J158,0) -> 0 | BF158: =IF(N158="znížená",J158,0) -> 846.93 | BG158: =IF(N158="zákl. prenesená",J158,0) -> 0 | BH158: =IF(N158="zníž. prenesená",J158,0) -> 0 | BI158: =IF(N158="nulová",J158,0) -> 0 | BJ158: 2 | BK158: =ROUND(I158*H158,2) -> 846.93 | BL158: 16 | BM158: 851019833
C159: 18 | D159: M | E159: 111630002800.S | F159: Penetračný náter na živičnej báze s obsahom rozpoušťadiel | G159: l | H159: 180.968 | I159: 5.79 | J159: =ROUND(I159*H159,2) -> 1047.8 | N159: znížená | O159: 0 | P159: =O159*H159 -> 0 | Q159: 0.00092 | R159: =Q159*H159 -> 0.16649056 | S159: 0 | T159: =S159*H159 -> 0 | AR159: 32 | AT159: M | AU159: 2 | AY159: ROZPOCET | BE159: =IF(N159="základná",J159,0) -> 0 | BF159: =IF(N159="znížená",J159,0) -> 1047.8 | BG159: =IF(N159="zákl. prenesená",J159,0) -> 0 | BH159: =IF(N159="zníž. prenesená",J159,0) -> 0 | BI159: =IF(N159="nulová",J159,0) -> 0 | BJ159: 2 | BK159: =ROUND(I159*H159,2) -> 1047.8 | BL159: 16 | BM159: -342384643
C160: 19 | D160: K | E160: 712341559.S | F160: Zhotovenie povlak. krytiny striech plochých do 10° pásmi pritav. NAIP na celej ploche, oxidované pásy | G160: m2 | H160: 723.87 | I160: 6.87 | J160: =ROUND(I160*H160,2) -> 4972.99 | N160: znížená | O160: 0.221 | P160: =O160*H160 -> 159.97527 | Q160: 0.00054495 | R160: =Q160*H160 -> 0.39447296 | S160: 0 | T160: =S160*H160 -> 0 | AR160: 16 | AT160: K | AU160: 2 | AY160: ROZPOCET | BE160: =IF(N160="základná",J160,0) -> 0 | BF160: =IF(N160="znížená",J160,0) -> 4972.99 | BG160: =IF(N160="zákl. prenesená",J160,0) -> 0 | BH160: =IF(N160="zníž. prenesená",J160,0) -> 0 | BI160: =IF(N160="nulová",J160,0) -> 0 | BJ160: 2 | BK160: =ROUND(I160*H160,2) -> 4972.99 | BL160: 16 | BM160: 1557460025
C161: 20 | D161: M | E161: 628310001200.S | F161: Pás asfaltový s jemným posypom hr. 4,0 mm vystužený sklenenou rohožou a hliníkovou fóliou | G161: m2 | H161: 832.451 | I161: 6.64 | J161: =ROUND(I161*H161,2) -> 5527.47 | N161: znížená | O161: 0 | P161: =O161*H161 -> 0 | Q161: 0.00513 | R161: =Q161*H161 -> 4.2704736 | S161: 0 | T161: =S161*H161 -> 0 | AR161: 32 | AT161: M | AU161: 2 | AY161: ROZPOCET | BE161: =IF(N161="základná",J161,0) -> 0 | BF161: =IF(N161="znížená",J161,0) -> 5527.47 | BG161: =IF(N161="zákl. prenesená",J161,0) -> 0 | BH161: =IF(N161="zníž. prenesená",J161,0) -> 0 | BI161: =IF(N161="nulová",J161,0) -> 0 | BJ161: 2 | BK161: =ROUND(I161*H161,2) -> 5527.47 | BL161: 16 | BM161: 9058628
C162: 21 | D162: K | E162: 712370560.S | F162: Zhotovenie povlakovej krytiny striech plochých do 10° fóliou TPO celoplošne lepenou | G162: m2 | H162: 709.83 | I162: 12.72 | J162: =ROUND(I162*H162,2) -> 9029.04 | N162: znížená | O162: 0.31729 | P162: =O162*H162 -> 225.22196 | Q162: 0.00025685 | R162: =Q162*H162 -> 0.18231984 | S162: 0 | T162: =S162*H162 -> 0 | AR162: 16 | AT162: K | AU162: 2 | AY162: ROZPOCET | BE162: =IF(N162="základná",J162,0) -> 0 | BF162: =IF(N162="znížená",J162,0) -> 9029.04 | BG162: =IF(N162="zákl. prenesená",J162,0) -> 0 | BH162: =IF(N162="zníž. prenesená",J162,0) -> 0 | BI162: =IF(N162="nulová",J162,0) -> 0 | BJ162: 2 | BK162: =ROUND(I162*H162,2) -> 9029.04 | BL162: 16 | BM162: -965472665
C163: 22 | D163: M | E163: 283290000215.S | F163: Hydroizolačná strešná fólia TPO hr. 2 mm, polyolefín | G163: m2 | H163: 816.305 | I163: 17.19 | J163: =ROUND(I163*H163,2) -> 14032.28 | N163: znížená | O163: 0 | P163: =O163*H163 -> 0 | Q163: 0.00205 | R163: =Q163*H163 -> 1.6734252 | S163: 0 | T163: =S163*H163 -> 0 | AR163: 32 | AT163: M | AU163: 2 | AY163: ROZPOCET | BE163: =IF(N163="základná",J163,0) -> 0 | BF163: =IF(N163="znížená",J163,0) -> 14032.28 | BG163: =IF(N163="zákl. prenesená",J163,0) -> 0 | BH163: =IF(N163="zníž. prenesená",J163,0) -> 0 | BI163: =IF(N163="nulová",J163,0) -> 0 | BJ163: 2 | BK163: =ROUND(I163*H163,2) -> 14032.28 | BL163: 16 | BM163: 847078603
C164: 23 | D164: K | E164: 712973345.S | F164: Povlaková krytina - detaily k TPO fóliam vytvorenie flekov v rohoch | G164: ks | H164: 9 | I164: 12.3 | J164: =ROUND(I164*H164,2) -> 110.7 | N164: znížená | O164: 0.30025 | P164: =O164*H164 -> 2.70225 | Q164: 0.00018 | R164: =Q164*H164 -> 0.00162 | S164: 0 | T164: =S164*H164 -> 0 | AR164: 16 | AT164: K | AU164: 2 | AY164: ROZPOCET | BE164: =IF(N164="základná",J164,0) -> 0 | BF164: =IF(N164="znížená",J164,0) -> 110.7 | BG164: =IF(N164="zákl. prenesená",J164,0) -> 0 | BH164: =IF(N164="zníž. prenesená",J164,0) -> 0 | BI164: =IF(N164="nulová",J164,0) -> 0 | BJ164: 2 | BK164: =ROUND(I164*H164,2) -> 110.7 | BL164: 16 | BM164: -529263360
...

Sheet SO 02.3 - Bleskozvod a uz...
AT2: {c7facb9c-9e4e-4203-bef5-50d3d89992a5}
AT3: 0
D4: KRYCÍ LIST ROZPOČTU | M4: v --- nižšie sa nachádzajú doplnkové a pomocné údaje k zostavám --- v | AT4: False
D6: Stavba:
E7: ='Rekapitulácia stavby'!K6 -> Rekonštrukcia striech na objekte Domova mládeže a jedálne budovy školy - PD
D8: Objekt:
E9: SO 02 - Plochá strecha
D10: Časť:
E11: SO 02.3 - Bleskozvod a uzemnenie
D13: JKSO: | I13: ČS:
D14: Miesto: | I14: Dátum: | J14: ='Rekapitulácia stavby'!AN8 -> 11. 3. 2026
D16: Objednávateľ: | I16: IČO:
I17: IČ DPH:
D19: Zhotoviteľ: | I19: IČO: | J19: 00896225
E20: Swietelsky-Slovakia spol. s r.o. | I20: IČ DPH: | J20: SK2020294144
D22: Projektant: | I22: IČO:
I23: IČ DPH:
D25: Spracovateľ: | I25: IČO:
I26: IČ DPH:
D28: Poznámka:
D32: Cena bez DPH | J32: =ROUND(J130, 2) -> 10065.41
F34: Základ dane | I34: Sadzba dane | J34: Výška dane
D35: DPH | E35: základná | F35: =ROUND((SUM(BE130:BE176)), 2) -> 0 | I35: 0.23 | J35: =ROUND(((SUM(BE130:BE176))*I35), 2) -> 0
E36: znížená | F36: =ROUND((SUM(BF130:BF176)), 2) -> 10065.41 | I36: 0.23 | J36: =ROUND(((SUM(BF130:BF176))*I36), 2) -> 2315.04
E37: zákl. prenesená | F37: =ROUND((SUM(BG130:BG176)), 2) -> 0 | I37: 0.23 | J37: =0 -> 0
E38: zníž. prenesená | F38: =ROUND((SUM(BH130:BH176)), 2) -> 0 | I38: 0.23 | J38: =0 -> 0
E39: nulová | F39: =ROUND((SUM(BI130:BI176)), 2) -> 0 | I39: 0 | J39: =0 -> 0
D41: Cena s DPH | G41: v | H41: EUR | J41: =SUM(J32:J39) -> 12380.45
D50: Projektant | G50: Spracovateľ
D61: Dátum a podpis: | F61: Pečiatka | G61: Dátum a podpis: | J61: Pečiatka
D65: Objednávateľ | G65: Zhotoviteľ
D76: Dátum a podpis: | F76: Pečiatka | G76: Dátum a podpis: | J76: Pečiatka
C82: REKAPITULÁCIA ROZPOČTU
C84: Stavba:
E85: =E7 -> Rekonštrukcia striech na objekte Domova mládeže a jedálne budovy školy - PD
C86: Objekt:
E87: SO 02 - Plochá strecha
C88: Časť:
E89: =E11 -> SO 02.3 - Bleskozvod a uzemnenie
C91: Miesto: | F91: =F14 | I91: Dátum: | J91: =IF(J14="","",J14) -> 11. 3. 2026
C93: Objednávateľ: | F93: =E17 | I93: Projektant: | J93: =E23
C94: Zhotoviteľ: | F94: =IF(E20="","",E20) -> Swietelsky-Slovakia spol. s r.o. | I94: Spracovateľ: | J94: =E26
C96: Kód dielu - Popis | J96: Cena celkom [EUR]
C98: Náklady z rozpočtu | J98: =J130 -> 10065.41 | AU98: -1
D99: D1 - PRÁCE A DODÁVKY M | J99: =J131 -> 0
D100: D2 - 210 01 Rúrkové vedenie, krabice, svorkovnice | J100: =J132 -> 298.9
D101: D3 - 210 22 Vedenia uzemňovacie | J101: =J136 -> 6983.44
D102: D4 - 213 2 PPV a HZS | J102: =J159 -> 1208.75
D103: D5 - 460 01 Vytyčovanie trás | J103: =J162 -> 8.52
D104: D6 - 460 03 Prípravné terénne práce | J104: =J164 -> 50.3
D105: D7 - 460 20 Káblové ryhy | J105: =J166 -> 529
D106: D8 - 460 42 Káblové lôžko | J106: =J168 -> 180.5
D107: D9 - 460 49 Krytie káblov, spojok, odbočníc | J107: =J170 -> 567.5
D108: D10 - 460 56 Zásyp rýh | J108: =J175 -> 238.5
C115: ROZPOČET
C117: Stavba:
E118: =E7 -> Rekonštrukcia striech na objekte Domova mládeže a jedálne budovy školy - PD
C119: Objekt:
E120: SO 02 - Plochá strecha
C121: Časť:
E122: =E11 -> SO 02.3 - Bleskozvod a uzemnenie
C124: Miesto: | F124: =F14 | I124: Dátum: | J124: =IF(J14="","",J14) -> 11. 3. 2026
C126: Objednávateľ: | F126: =E17 | I126: Projektant: | J126: =E23
C127: Zhotoviteľ: | F127: =IF(E20="","",E20) -> Swietelsky-Slovakia spol. s r.o. | I127: Spracovateľ: | J127: =E26
C129: PČ | D129: Typ | E129: Kód | F129: Popis | G129: MJ | H129: Množstvo | I129: J.cena [EUR] | J129: Cena celkom [EUR] | K129: Cenová sústava | N129: DPH | O129: J. Nh [h] | P129: Nh celkom [h] | Q129: J. hmotnosť [t] | R129: Hmotnosť celkom [t] | S129: J. suť [t] | T129: Suť Celkom [t]
C130: Náklady z rozpočtu | J130: =BK130 -> 10065.41 | P130: =P131+P132+P136+P159+P162+P164+P166+P168+P170+P175 -> 0 | R130: =R131+R132+R136+R159+R162+R164+R166+R168+R170+R175 -> 0 | T130: =T131+T132+T136+T159+T162+T164+T166+T168+T170+T175 -> 0 | AT130: D | AU130: -1 | BK130: =BK131+BK132+BK136+BK159+BK162+BK164+BK166+BK168+BK170+BK175 -> 10065.41
D131: D | E131: D1 | F131: PRÁCE A DODÁVKY M | J131: =BK131 -> 0 | P131: 0 | R131: 0 | T131: 0 | AR131: 1 | AT131: D | AU131: 0 | AY131: ROZPOCET | BK131: 0
D132: D | E132: D2 | F132: 210 01 Rúrkové vedenie, krabice, svorkovnice | J132: =BK132 -> 298.9 | P132: =SUM(P133:P135) -> 0 | R132: =SUM(R133:R135) -> 0 | T132: =SUM(T133:T135) -> 0 | AR132: 1 | AT132: D | AU132: 0 | AY132: ROZPOCET | BK132: =SUM(BK133:BK135) -> 298.9
C133: 1 | D133: K | E133: 211010010 | F133: Osadenie plastovej "hmoždinky", vyvŕtanie diery D 8mm, do betónu, železobetónu, tvrdého kameňa | G133: kus | H133: 140 | I133: 1.93 | J133: =ROUND(I133*H133,2) -> 270.2 | N133: znížená | O133: 0 | P133: =O133*H133 -> 0 | Q133: 0 | R133: =Q133*H133 -> 0 | S133: 0 | T133: =S133*H133 -> 0 | AR133: 4 | AT133: K | AU133: 1 | AY133: ROZPOCET | BE133: =IF(N133="základná",J133,0) -> 0 | BF133: =IF(N133="znížená",J133,0) -> 270.2 | BG133: =IF(N133="zákl. prenesená",J133,0) -> 0 | BH133: =IF(N133="zníž. prenesená",J133,0) -> 0 | BI133: =IF(N133="nulová",J133,0) -> 0 | BJ133: 2 | BK133: =ROUND(I133*H133,2) -> 270.2 | BL133: 4 | BM133: 403017349
C134: 2 | D134: M | E134: 345955K001 | F134: Hmoždinka PA plast : HM 8/1 (pre skrutky D4÷5/ >45mm) | G134: kus | H134: 70 | I134: 0.09 | J134: =ROUND(I134*H134,2) -> 6.3 | N134: znížená | O134: 0 | P134: =O134*H134 -> 0 | Q134: 0 | R134: =Q134*H134 -> 0 | S134: 0 | T134: =S134*H134 -> 0 | AR134: 8 | AT134: M | AU134: 1 | AY134: ROZPOCET | BE134: =IF(N134="základná",J134,0) -> 0 | BF134: =IF(N134="znížená",J134,0) -> 6.3 | BG134: =IF(N134="zákl. prenesená",J134,0) -> 0 | BH134: =IF(N134="zníž. prenesená",J134,0) -> 0 | BI134: =IF(N134="nulová",J134,0) -> 0 | BJ134: 2 | BK134: =ROUND(I134*H134,2) -> 6.3 | BL134: 4 | BM134: 1478486670
C135: 3 | D135: M | E135: 345955K011.1 | F135: Hmoždinka OBO Angler 8x40, 2349086 | G135: kus | H135: 70 | I135: 0.32 | J135: =ROUND(I135*H135,2) -> 22.4 | N135: znížená | O135: 0 | P135: =O135*H135 -> 0 | Q135: 0 | R135: =Q135*H135 -> 0 | S135: 0 | T135: =S135*H135 -> 0 | AR135: 8 | AT135: M | AU135: 1 | AY135: ROZPOCET | BE135: =IF(N135="základná",J135,0) -> 0 | BF135: =IF(N135="znížená",J135,0) -> 22.4 | BG135: =IF(N135="zákl. prenesená",J135,0) -> 0 | BH135: =IF(N135="zníž. prenesená",J135,0) -> 0 | BI135: =IF(N135="nulová",J135,0) -> 0 | BJ135: 2 | BK135: =ROUND(I135*H135,2) -> 22.4 | BL135: 4 | BM135: 830045353
D136: D | E136: D3 | F136: 210 22 Vedenia uzemňovacie | J136: =BK136 -> 6983.44 | P136: =SUM(P137:P158) -> 0 | R136: =SUM(R137:R158) -> 0 | T136: =SUM(T137:T158) -> 0 | AR136: 1 | AT136: D | AU136: 0 | AY136: ROZPOCET | BK136: =SUM(BK137:BK158) -> 6983.44
C137: 4 | D137: K | E137: 210220025 | F137: Montáž uzemňovacieho vedenia v zemi, FeZn pás do 120mm2, spojenie svorkami | G137: m | H137: 55 | I137: 4 | J137: =ROUND(I137*H137,2) -> 220 | N137: znížená | O137: 0 | P137: =O137*H137 -> 0 | Q137: 0 | R137: =Q137*H137 -> 0 | S137: 0 | T137: =S137*H137 -> 0 | AR137: 4 | AT137: K | AU137: 1 | AY137: ROZPOCET | BE137: =IF(N137="základná",J137,0) -> 0 | BF137: =IF(N137="znížená",J137,0) -> 220 | BG137: =IF(N137="zákl. prenesená",J137,0) -> 0 | BH137: =IF(N137="zníž. prenesená",J137,0) -> 0 | BI137: =IF(N137="nulová",J137,0) -> 0 | BJ137: 2 | BK137: =ROUND(I137*H137,2) -> 220 | BL137: 4 | BM137: 9618685
C138: 5 | D138: M | E138: 3549000O35 | F138: Plochý uzemňovací vodič (St-FT) : 5019350, typ 5052 DIN 30x4 (120mm2) | G138: m | H138: 55 | I138: 2.74 | J138: =ROUND(I138*H138,2) -> 150.7 | N138: znížená | O138: 0 | P138: =O138*H138 -> 0 | Q138: 0 | R138: =Q138*H138 -> 0 | S138: 0 | T138: =S138*H138 -> 0 | AR138: 8 | AT138: M | AU138: 1 | AY138: ROZPOCET | BE138: =IF(N138="základná",J138,0) -> 0 | BF138: =IF(N138="znížená",J138,0) -> 150.7 | BG138: =IF(N138="zákl. prenesená",J138,0) -> 0 | BH138: =IF(N138="zníž. prenesená",J138,0) -> 0 | BI138: =IF(N138="nulová",J138,0) -> 0 | BJ138: 2 | BK138: =ROUND(I138*H138,2) -> 150.7 | BL138: 4 | BM138: 993511402
C139: 6 | D139: K | E139: 210220101 | F139: Montáž zachytávacieho, zvodového vodiča s podperami, FeZn drôt D8-10mm | G139: m | H139: 15 | I139: 12.05 | J139: =ROUND(I139*H139,2) -> 180.75 | N139: znížená | O139: 0 | P139: =O139*H139 -> 0 | Q139: 0 | R139: =Q139*H139 -> 0 | S139: 0 | T139: =S139*H139 -> 0 | AR139: 4 | AT139: K | AU139: 1 | AY139: ROZPOCET | BE139: =IF(N139="základná",J139,0) -> 0 | BF139: =IF(N139="znížená",J139,0) -> 180.75 | BG139: =IF(N139="zákl. prenesená",J139,0) -> 0 | BH139: =IF(N139="zníž. prenesená",J139,0) -> 0 | BI139: =IF(N139="nulová",J139,0) -> 0 | BJ139: 2 | BK139: =ROUND(I139*H139,2) -> 180.75 | BL139: 4 | BM139: -1866653358
C140: 7 | D140: M | E140: 3549000O05 | F140: Kruhový bleskozvodný vodič (St-FT) : 5021162, typ RD 10-PVC, potiahnutý čiernym PVC plášťom (78mm2) | G140: m | H140: 15 | I140: 9.21 | J140: =ROUND(I140*H140,2) -> 138.15 | N140: znížená | O140: 0 | P140: =O140*H140 -> 0 | Q140: 0 | R140: =Q140*H140 -> 0 | S140: 0 | T140: =S140*H140 -> 0 | AR140: 8 | AT140: M | AU140: 1 | AY140: ROZPOCET | BE140: =IF(N140="základná",J140,0) -> 0 | BF140: =IF(N140="znížená",J140,0) -> 138.15 | BG140: =IF(N140="zákl. prenesená",J140,0) -> 0 | BH140: =IF(N140="zníž. prenesená",J140,0) -> 0 | BI140: =IF(N140="nulová",J140,0) -> 0 | BJ140: 2 | BK140: =ROUND(I140*H140,2) -> 138.15 | BL140: 4 | BM140: 232891038
C141: 8 | D141: K | E141: 210220107 | F141: Montáž zachytávacieho, zvodového vodiča s podperami, AlMgSi drôt D8 | G141: m | H141: 280 | I141: 8.81 | J141: =ROUND(I141*H141,2) -> 2466.8 | N141: znížená | O141: 0 | P141: =O141*H141 -> 0 | Q141: 0 | R141: =Q141*H141 -> 0 | S141: 0 | T141: =S141*H141 -> 0 | AR141: 4 | AT141: K | AU141: 1 | AY141: ROZPOCET | BE141: =IF(N141="základná",J141,0) -> 0 | BF141: =IF(N141="znížená",J141,0) -> 2466.8 | BG141: =IF(N141="zákl. prenesená",J141,0) -> 0 | BH141: =IF(N141="zníž. prenesená",J141,0) -> 0 | BI141: =IF(N141="nulová",J141,0) -> 0 | BJ141: 2 | BK141: =ROUND(I141*H141,2) -> 2466.8 | BL141: 4 | BM141: -1065846993
C142: 9 | D142: M | E142: 3549001O70 | F142: Kruhový bleskozvodný vodič (AlMgSi) : 5021286, typ RD 8-ALU (50mm2) | G142: m | H142: 280 | I142: 1.54 | J142: =ROUND(I142*H142,2) -> 431.2 | N142: znížená | O142: 0 | P142: =O142*H142 -> 0 | Q142: 0 | R142: =Q142*H142 -> 0 | S142: 0 | T142: =S142*H142 -> 0 | AR142: 8 | AT142: M | AU142: 1 | AY142: ROZPOCET | BE142: =IF(N142="základná",J142,0) -> 0 | BF142: =IF(N142="znížená",J142,0) -> 431.2 | BG142: =IF(N142="zákl. prenesená",J142,0) -> 0 | BH142: =IF(N142="zníž. prenesená",J142,0) -> 0 | BI142: =IF(N142="nulová",J142,0) -> 0 | BJ142: 2 | BK142: =ROUND(I142*H142,2) -> 431.2 | BL142: 4 | BM142: -1367587401
C143: 10 | D143: M | E143: 3549001O88 | F143: - distančný diel pre kruhové Al vodiče : 5218926, typ 172 AR, na vyrovnanie zmien dĺžky nad 20m vplyvom teploty | G143: kus | H143: 50 | I143: 3.78 | J143: =ROUND(I143*H143,2) -> 189 | N143: znížená | O143: 0 | P143: =O143*H143 -> 0 | Q143: 0 | R143: =Q143*H143 -> 0 | S143: 0 | T143: =S143*H143 -> 0 | AR143: 8 | AT143: M | AU143: 1 | AY143: ROZPOCET | BE143: =IF(N143="základná",J143,0) -> 0 | BF143: =IF(N143="znížená",J143,0) -> 189 | BG143: =IF(N143="zákl. prenesená",J143,0) -> 0 | BH143: =IF(N143="zníž. prenesená",J143,0) -> 0 | BI143: =IF(N143="nulová",J143,0) -> 0 | BJ143: 2 | BK143: =ROUND(I143*H143,2) -> 189 | BL143: 4 | BM143: 1186542991
C144: 11 | D144: M | E144: 3549020O07 | F144: - adaptér (PP) pre vodiče : 5218882, typ 165 MBG UH, univerzálny, montáž na podpery 165 MBG | G144: kus | H144: 80 | I144: 0.53 | J144: =ROUND(I144*H144,2) -> 42.4 | N144: znížená | O144: 0 | P144: =O144*H144 -> 0 | Q144: 0 | R144: =Q144*H144 -> 0 | S144: 0 | T144: =S144*H144 -> 0 | AR144: 8 | AT144: M | AU144: 1 | AY144: ROZPOCET | BE144: =IF(N144="základná",J144,0) -> 0 | BF144: =IF(N144="znížená",J144,0) -> 42.4 | BG144: =IF(N144="zákl. prenesená",J144,0) -> 0 | BH144: =IF(N144="zníž. prenesená",J144,0) -> 0 | BI144: =IF(N144="nulová",J144,0) -> 0 | BJ144: 2 | BK144: =ROUND(I144*H144,2) -> 42.4 | BL144: 4 | BM144: 278511952
C145: 12 | D145: M | E145: 3549020O09.1 | F145: Podpera na ploché strechy (betón, PE) : 5218700, typ 165 MBG-8-10, držiak vodiča D8, plastový s dnom | G145: kus | H145: 50 | I145: 2.74 | J145: =ROUND(I145*H145,2) -> 137 | N145: znížená | O145: 0 | P145: =O145*H145 -> 0 | Q145: 0 | R145: =Q145*H145 -> 0 | S145: 0 | T145: =S145*H145 -> 0 | AR145: 8 | AT145: M | AU145: 1 | AY145: ROZPOCET | BE145: =IF(N145="základná",J145,0) -> 0 | BF145: =IF(N145="znížená",J145,0) -> 137 | BG145: =IF(N145="zákl. prenesená",J145,0) -> 0 | BH145: =IF(N145="zníž. prenesená",J145,0) -> 0 | BI145: =IF(N145="nulová",J145,0) -> 0 | BJ145: 2 | BK145: =ROUND(I145*H145,2) -> 137 | BL145: 4 | BM145: 2040391880
C146: 13 | D146: M | E146: 3549026O12 | F146: Podpera vedenia (PA) : 5207487, typ 177 55 M8, držiak vodiča D8-10, vnút. závit M8, mont. výška 55mm, sivá | G146: kus | H146: 70 | I146: 1.18 | J146: =ROUND(I146*H146,2) -> 82.6 | N146: znížená | O146: 0 | P146: =O146*H146 -> 0 | Q146: 0 | R146: =Q146*H146 -> 0 | S146: 0 | T146: =S146*H146 -> 0 | AR146: 8 | AT146: M | AU146: 1 | AY146: ROZPOCET | BE146: =IF(N146="základná",J146,0) -> 0 | BF146: =IF(N146="znížená",J146,0) -> 82.6 | BG146: =IF(N146="zákl. prenesená",J146,0) -> 0 | BH146: =IF(N146="zníž. prenesená",J146,0) -> 0 | BI146: =IF(N146="nulová",J146,0) -> 0 | BJ146: 2 | BK146: =ROUND(I146*H146,2) -> 82.6 | BL146: 4 | BM146: -1064676848
C147: 14 | D147: M | E147: 3549048O82 | F147: - pripojovací, preklenovací diel (Al) : 5320712, typ 288 DIN (otvory : 1x11 - 2x5x 4,2 + 2x2x 6,9)mm | G147: kus | H147: 160 | I147: 1.97 | J147: =ROUND(I147*H147,2) -> 315.2 | N147: znížená | O147: 0 | P147: =O147*H147 -> 0 | Q147: 0 | R147: =Q147*H147 -> 0 | S147: 0 | T147: =S147*H147 -> 0 | AR147: 8 | AT147: M | AU147: 1 | AY147: ROZPOCET | BE147: =IF(N147="základná",J147,0) -> 0 | BF147: =IF(N147="znížená",J147,0) -> 315.2 | BG147: =IF(N147="zákl. prenesená",J147,0) -> 0 | BH147: =IF(N147="zníž. prenesená",J147,0) -> 0 | BI147: =IF(N147="nulová",J147,0) -> 0 | BJ147: 2 | BK147: =ROUND(I147*H147,2) -> 315.2 | BL147: 4 | BM147: 1145423680
C148: 15 | D148: M | E148: 3549034O97 | F148: Podstavec statívu zachyt. stožiara, betónový FangFix (16kg) : 5403227, typ F-FIX-S16, bez plastovej základne (D365mm) | G148: kus | H148: 10 | I148: 16.64 | J148: =ROUND(I148*H148,2) -> 166.4 | N148: znížená | O148: 0 | P148: =O148*H148 -> 0 | Q148: 0 | R148: =Q148*H148 -> 0 | S148: 0 | T148: =S148*H148 -> 0 | AR148: 8 | AT148: M | AU148: 1 | AY148: ROZPOCET | BE148: =IF(N148="základná",J148,0) -> 0 | BF148: =IF(N148="znížená",J148,0) -> 166.4 | BG148: =IF(N148="zákl. prenesená",J148,0) -> 0 | BH148: =IF(N148="zníž. prenesená",J148,0) -> 0 | BI148: =IF(N148="nulová",J148,0) -> 0 | BJ148: 2 | BK148: =ROUND(I148*H148,2) -> 166.4 | BL148: 4 | BM148: 1285962877
... C158: 25 | D158: M | E158: 3549071O02 | F158: Číselný štítok pre rozpojovacie miesta (Al) : 3049256, typ 311 N-ALU 8-10, pre vodič D8-10, pás FL30 | G158: kus | H158: 4 | I158: 3.02 | J158: =ROUND(I158*H158,2) -> 12.08 | N158: znížená | O158: 0 | P158: =O158*H158 -> 0 | Q158: 0 | R158: =Q158*H158 -> 0 | S158: 0 | T158: =S158*H158 -> 0 | AR158: 8 | AT158: M | AU158: 1 | AY158: ROZPOCET | BE158: =IF(N158="základná",J158,0) -> 0 | BF158: =IF(N158="znížená",J158,0) -> 12.08 | BG158: =IF(N158="zákl. prenesená",J158,0) -> 0 | BH158: =IF(N158="zníž. prenesená",J158,0) -> 0 | BI158: =IF(N158="nulová",J158,0) -> 0 | BJ158: 2 | BK158: =ROUND(I158*H158,2) -> 12.08 | BL158: 4 | BM158: -1717115430
D159: D | E159: D4 | F159: 213 2 PPV a HZS | J159: =BK159 -> 1208.75 | P159: =SUM(P160:P161) -> 0 | R159: =SUM(R160:R161) -> 0 | T159: =SUM(T160:T161) -> 0 | AR159: 1 | AT159: D | AU159: 0 | AY159: ROZPOCET | BK159: =SUM(BK160:BK161) -> 1208.75
C160: 26 | D160: K | E160: 213290152 | F160: Nepredvídané elektroinštalačné práce | G160: hod | H160: 20 | I160: 26.05 | J160: =ROUND(I160*H160,2) -> 521 | N160: znížená | O160: 0 | P160: =O160*H160 -> 0 | Q160: 0 | R160: =Q160*H160 -> 0 | S160: 0 | T160: =S160*H160 -> 0 | AR160: 4 | AT160: K | AU160: 1 | AY160: ROZPOCET | BE160: =IF(N160="základná",J160,0) -> 0 | BF160: =IF(N160="znížená",J160,0) -> 521 | BG160: =IF(N160="zákl. prenesená",J160,0) -> 0 | BH160: =IF(N160="zníž. prenesená",J160,0) -> 0 | BI160: =IF(N160="nulová",J160,0) -> 0 | BJ160: 2 | BK160: =ROUND(I160*H160,2) -> 521 | BL160: 4 | BM160: 525859375
C161: 27 | D161: K | E161: 213291002 | F161: Revízia bleskozvodu a vypracovanie správy | G161: hod | H161: 25 | I161: 27.51 | J161: =ROUND(I161*H161,2) -> 687.75 | N161: znížená | O161: 0 | P161: =O161*H161 -> 0 | Q161: 0 | R161: =Q161*H161 -> 0 | S161: 0 | T161: =S161*H161 -> 0 | AR161: 4 | AT161: K | AU161: 1 | AY161: ROZPOCET | BE161: =IF(N161="základná",J161,0) -> 0 | BF161: =IF(N161="znížená",J161,0) -> 687.75 | BG161: =IF(N161="zákl. prenesená",J161,0) -> 0 | BH161: =IF(N161="zníž. prenesená",J161,0) -> 0 | BI161: =IF(N161="nulová",J161,0) -> 0 | BJ161: 2 | BK161: =ROUND(I161*H161,2) -> 687.75 | BL161: 4 | BM161: 496422175
D162: D | E162: D5 | F162: 460 01 Vytyčovanie trás | J162: =BK162 -> 8.52 | P162: =P163 -> 0 | R162: =R163 -> 0 | T162: =T163 -> 0 | AR162: 1 | AT162: D | AU162: 0 | AY162: ROZPOCET | BK162: =BK163 -> 8.52
C163: 28 | D163: K | E163: 460010024 | F163: Vytýčenie trasy M21 kábel vedenia v zastavanom priestore | G163: km | H163: 0.05 | I163: 170.47 | J163: =ROUND(I163*H163,2) -> 8.52 | N163: znížená | O163: 0 | P163: =O163*H163 -> 0 | Q163: 0 | R163: =Q163*H163 -> 0 | S163: 0 | T163: =S163*H163 -> 0 | AR163: 4 | AT163: K | AU163: 1 | AY163: ROZPOCET | BE163: =IF(N163="základná",J163,0) -> 0 | BF163: =IF(N163="znížená",J163,0) -> 8.52 | BG163: =IF(N163="zákl. prenesená",J163,0) -> 0 | BH163: =IF(N163="zníž. prenesená",J163,0) -> 0 | BI163: =IF(N163="nulová",J163,0) -> 0 | BJ163: 2 | BK163: =ROUND(I163*H163,2) -> 8.52 | BL163: 4 | BM163: 735289552
D164: D | E164: D6 | F164: 460 03 Prípravné terénne práce | J164: =BK164 -> 50.3 | P164: =P165 -> 0 | R164: =R165 -> 0 | T164: =T165 -> 0 | AR164: 1 | AT164: D | AU164: 0 | AY164: ROZPOCET | BK164: =BK165 -> 50.3
C165: 29 | D165: K | E165: 460030081 | F165: Rezanie drážky v asfalte, betóne | G165: m | H165: 10 | I165: 5.03 | J165: =ROUND(I165*H165,2) -> 50.3 | N165: znížená | O165: 0 | P165: =O165*H165 -> 0 | Q165: 0 | R165: =Q165*H165 -> 0 | S165: 0 | T165: =S165*H165 -> 0 | AR165: 4 | AT165: K | AU165: 1 | AY165: ROZPOCET | BE165: =IF(N165="základná",J165,0) -> 0 | BF165: =IF(N165="znížená",J165,0) -> 50.3 | BG165: =IF(N165="zákl. prenesená",J165,0) -> 0 | BH165: =IF(N165="zníž. prenesená",J165,0) -> 0 | BI165: =IF(N165="nulová",J165,0) -> 0 | BJ165: 2 | BK165: =ROUND(I165*H165,2) -> 50.3 | BL165: 4 | BM165: 1062982027
D166: D | E166: D7 | F166: 460 20 Káblové ryhy | J166: =BK166 -> 529 | P166: =P167 -> 0 | R166: =R167 -> 0 | T166: =T167 -> 0 | AR166: 1 | AT166: D | AU166: 0 | AY166: ROZPOCET | BK166: =BK167 -> 529
C167: 30 | D167: K | E167: 460200263 | F167: Káblové ryhy šírky 50, hĺbky 80 [cm], zemina tr.3 | G167: m | H167: 50 | I167: 10.58 | J167: =ROUND(I167*H167,2) -> 529 | N167: znížená | O167: 0 | P167: =O167*H167 -> 0 | Q167: 0 | R167: =Q167*H167 -> 0 | S167: 0 | T167: =S167*H167 -> 0 | AR167: 4 | AT167: K | AU167: 1 | AY167: ROZPOCET | BE167: =IF(N167="základná",J167,0) -> 0 | BF167: =IF(N167="znížená",J167,0) -> 529 | BG167: =IF(N167="zákl. prenesená",J167,0) -> 0 | BH167: =IF(N167="zníž. prenesená",J167,0) -> 0 | BI167: =IF(N167="nulová",J167,0) -> 0 | BJ167: 2 | BK167: =ROUND(I167*H167,2) -> 529 | BL167: 4 | BM167: -2099962423
D168: D | E168: D8 | F168: 460 42 Káblové lôžko | J168: =BK168 -> 180.5 | P168: =P169 -> 0 | R168: =R169 -> 0 | T168: =T169 -> 0 | AR168: 1 | AT168: D | AU168: 0 | AY168: ROZPOCET | BK168: =BK169 -> 180.5
C169: 31 | D169: K | E169: 460420022 | F169: P/Zriadenie káblového lôžka 65/10 cm, pieskom | G169: m | H169: 50 | I169: 3.61 | J169: =ROUND(I169*H169,2) -> 180.5 | N169: znížená | O169: 0 | P169: =O169*H169 -> 0 | Q169: 0 | R169: =Q169*H169 -> 0 | S169: 0 | T169: =S169*H169 -> 0 | AR169: 4 | AT169: K | AU169: 1 | AY169: ROZPOCET | BE169: =IF(N169="základná",J169,0) -> 0 | BF169: =IF(N169="znížená",J169,0) -> 180.5 | BG169: =IF(N169="zákl. prenesená",J169,0) -> 0 | BH169: =IF(N169="zníž. prenesená",J169,0) -> 0 | BI169: =IF(N169="nulová",J169,0) -> 0 | BJ169: 2 | BK169: =ROUND(I169*H169,2) -> 180.5 | BL169: 4 | BM169: 1962945347
D170: D | E170: D9 | F170: 460 49 Krytie káblov, spojok, odbočníc | J170: =BK170 -> 567.5 | P170: =SUM(P171:P174) -> 0 | R170: =SUM(R171:R174) -> 0 | T170: =SUM(T171:T174) -> 0 | AR170: 1 | AT170: D | AU170: 0 | AY170: ROZPOCET | BK170: =SUM(BK171:BK174) -> 567.5
C171: 32 | D171: K | E171: 460490012 | F171: Zakrytie káblov výstražnou fóliou PVC šírky 33cm | G171: m | H171: 50 | I171: 2.89 | J171: =ROUND(I171*H171,2) -> 144.5 | N171: znížená | O171: 0 | P171: =O171*H171 -> 0 | Q171: 0 | R171: =Q171*H171 -> 0 | S171: 0 | T171: =S171*H171 -> 0 | AR171: 4 | AT171: K | AU171: 1 | AY171: ROZPOCET | BE171: =IF(N171="základná",J171,0) -> 0 | BF171: =IF(N171="znížená",J171,0) -> 144.5 | BG171: =IF(N171="zákl. prenesená",J171,0) -> 0 | BH171: =IF(N171="zníž. prenesená",J171,0) -> 0 | BI171: =IF(N171="nulová",J171,0) -> 0 | BJ171: 2 | BK171: =ROUND(I171*H171,2) -> 144.5 | BL171: 4 | BM171: 2004226858
C172: 33 | D172: M | E172: 345658N003 | F172: Výstražná polyetylénová fólia s potlačou blesku Anticor : 611, šírka 330mm, červená | G172: m | H172: 50 | I172: 0.18 | J172: =ROUND(I172*H172,2) -> 9 | N172: znížená | O172: 0 | P172: =O172*H172 -> 0 | Q172: 0 | R172: =Q172*H172 -> 0 | S172: 0 | T172: =S172*H172 -> 0 | AR172: 8 | AT172: M | AU172: 1 | AY172: ROZPOCET | BE172: =IF(N172="základná",J172,0) -> 0 | BF172: =IF(N172="znížená",J172,0) -> 9 | BG172: =IF(N172="zákl. prenesená",J172,0) -> 0 | BH172: =IF(N172="zníž. prenesená",J172,0) -> 0 | BI172: =IF(N172="nulová",J172,0) -> 0 | BJ172: 2 | BK172: =ROUND(I172*H172,2) -> 9 | BL172: 4 | BM172: -1043728167
C173: 34 | D173: K | E173: 460490012P | F173: Zakrytie káblov kábelovou doskou | G173: m | H173: 50 | I173: 2.92 | J173: =ROUND(I173*H173,2) -> 146 | N173: znížená | O173: 0 | P173: =O173*H173 -> 0 | Q173: 0 | R173: =Q173*H173 -> 0 | S173: 0 | T173: =S173*H173 -> 0 | AR173: 4 | AT173: K | AU173: 1 | AY173: ROZPOCET | BE173: =IF(N173="základná",J173,0) -> 0 | BF173: =IF(N173="znížená",J173,0) -> 146 | BG173: =IF(N173="zákl. prenesená",J173,0) -> 0 | BH173: =IF(N173="zníž. prenesená",J173,0) -> 0 | BI173: =IF(N173="nulová",J173,0) -> 0 | BJ173: 2 | BK173: =ROUND(I173*H173,2) -> 146 | BL173: 4 | BM173: -1194726758
...
