Workbook

Sheet Rekapitulácia stavby
A1: Export Komplet | BA1: 2.0 | BB1: ZAMOK | BT1: False | BU1: False | BV1: {f4993a4e-5b43-47c6-9b4e-14dd18bcbc8b}
BS2: 0,01 | BT2: 23
BS3: 0,01 | BT3: 23
D4: REKAPITULÁCIA STAVBY | AS4: v --- nižšie sa nachádzajú doplnkové a pomocné údaje k zostavám --- v | BS4: 0,001
D5: Kód: | K5: 3214 | BS5: 0,01
D6: Stavba: | K6: Rekonštrukcia striech na objekte Domova mládeže a jedálne budovy školy - PD | BS6: 0,01
D7: JKSO: | AK7: ČS: | BS7: 0,01
D8: Miesto: | AK8: Dátum: | AN8: 11. 3. 2026 | BS8: 0,01
BS9: 0,01
D10: Objednávateľ: | AK10: IČO: | BS10: 0,01
AK11: IČ DPH: | BS11: 0,01
BS12: 0,01
D13: Zhotoviteľ: | AK13: IČO: | AN13: 00896225 | BS13: 0,01
E14: Swietelsky-Slovakia spol. s r.o. | AK14: IČ DPH: | AN14: SK2020294144 | BS14: 0,01
BS15: False
D16: Projektant: | AK16: IČO: | BS16: False
AK17: IČ DPH: | BS17: True
BS18: 0,01
D19: Spracovateľ: | AK19: IČO: | BS19: 0,01
AK20: IČ DPH: | BS20: True
D22: Poznámka:
D26: Cena bez DPH | AK26: =ROUND(AG94,2) -> 234121.21
L28: Sadzba dane | W28: Základ dane | AK28: Výška dane
D29: DPH | F29: základná | L29: 0.23 | W29: =ROUND(AZ94, 2) -> 0 | AK29: =ROUND(AV94, 2) -> 0
F30: znížená | L30: 0.23 | W30: =ROUND(BA94, 2) -> 234121.21 | AK30: =ROUND(AW94, 2) -> 53847.88
F31: zákl. prenesená | L31: 0.23 | W31: =ROUND(BB94, 2) -> 0 | AK31: 0
F32: zníž. prenesená | L32: 0.23 | W32: =ROUND(BC94, 2) -> 0 | AK32: 0
F33: nulová | L33: 0 | W33: =ROUND(BD94, 2) -> 0 | AK33: 0
D35: Cena s DPH | T35: v | X35: EUR | AK35: =SUM(AK26:AK33) -> 287969.09
D49: Projektant | AH49: Spracovateľ
D60: Dátum a podpis: | V60: Pečiatka | AH60: Dátum a podpis: | AM60: Pečiatka
D64: Objednávateľ | AH64: Zhotoviteľ
D75: Dátum a podpis: | V75: Pečiatka | AH75: Dátum a podpis: | AM75: Pečiatka
C82: REKAPITULÁCIA OBJEKTOV STAVBY
C84: Kód: | L84: =K5 -> 3214
C85: Stavba: | L85: =K6 -> Rekonštrukcia striech na objekte Domova mládeže a jedálne budovy školy - PD
C87: Miesto: | L87: =IF(K8="","",K8) | AI87: Dátum: | AM87: =IF(AN8= "","",AN8) -> 11. 3. 2026
C89: Objednávateľ: | L89: =IF(E11= "","",E11) | AI89: Projektant: | AM89: =IF(E17="","",E17) | AS89: Informatívne údaje z listov zákaziek
C90: Zhotoviteľ: | L90: =IF(E14="","",E14) -> Swietelsky-Slovakia spol. s r.o. | AI90: Spracovateľ: | AM90: =IF(E20="","",E20)
C92: Kód | I92: Popis | AG92: Cena bez DPH [EUR] | AN92: Cena s DPH [EUR] | AQ92: Typ | AS92: z toho Ostat._x000D_ náklady [EUR] | AT92: DPH [EUR] | AU92: Normohodiny [h] | AV92: DPH základná [EUR] | AW92: DPH znížená [EUR] | AX92: DPH základná prenesená_x000D_ [EUR] | AY92: DPH znížená prenesená_x000D_ [EUR] | AZ92: Základňa_x000D_ DPH základná | BA92: Základňa_x000D_ DPH znížená | BB92: Základňa_x000D_ DPH zákl. prenesená | BC92: Základňa_x000D_ DPH zníž. prenesená | BD92: Základňa_x000D_ DPH nulová
...

Sheet SO 02.1 - Plochá strecha ...
AT2: {b03de026-2f65-40e2-ae08-50c43293f577}
AT3: 0
D4: KRYCÍ LIST ROZPOČTU | M4: v --- nižšie sa nachádzajú doplnkové a pomocné údaje k zostavám --- v | AT4: False
D6: Stavba:
E7: ='Rekapitulácia stavby'!K6 -> Rekonštrukcia striech na objekte Domova mládeže a jedálne budovy školy - PD
D8: Objekt:
E9: SO 02 - Plochá strecha
D10: Časť:
E11: SO 02.1 - Plochá strecha - búracie práce
D13: JKSO: | I13: ČS:
D14: Miesto: | I14: Dátum: | J14: ='Rekapitulácia stavby'!AN8 -> 11. 3. 2026
D16: Objednávateľ: | I16: IČO:
I17: IČ DPH:
D19: Zhotoviteľ: | I19: IČO: | J19: 00896225
E20: Swietelsky-Slovakia spol. s r.o. | I20: IČ DPH: | J20: SK2020294144
D22: Projektant: | I22: IČO:
I23: IČ DPH:
D25: Spracovateľ: | I25: IČO:
I26: IČ DPH:
D28: Poznámka:
D32: Cena bez DPH | J32: =ROUND(J128, 2) -> 60768.4
F34: Základ dane | I34: Sadzba dane | J34: Výška dane
D35: DPH | E35: základná | F35: =ROUND((SUM(BE128:BE152)), 2) -> 0 | I35: 0.23 | J35: =ROUND(((SUM(BE128:BE152))*I35), 2) -> 0
E36: znížená | F36: =ROUND((SUM(BF128:BF152)), 2) -> 60768.4 | I36: 0.23 | J36: =ROUND(((SUM(BF128:BF152))*I36), 2) -> 13976.73
E37: zákl. prenesená | F37: =ROUND((SUM(BG128:BG152)), 2) -> 0 | I37: 0.23 | J37: =0 -> 0
E38: zníž. prenesená | F38: =ROUND((SUM(BH128:BH152)), 2) -> 0 | I38: 0.23 | J38: =0 -> 0
E39: nulová | F39: =ROUND((SUM(BI128:BI152)), 2) -> 0 | I39: 0 | J39: =0 -> 0
D41: Cena s DPH | G41: v | H41: EUR | J41: =SUM(J32:J39) -> 74745.13
D50: Projektant | G50: Spracovateľ
D61: Dátum a podpis: | F61: Pečiatka | G61: Dátum a podpis: | J61: Pečiatka
D65: Objednávateľ | G65: Zhotoviteľ
D76: Dátum a podpis: | F76: Pečiatka | G76: Dátum a podpis: | J76: Pečiatka
C82: REKAPITULÁCIA ROZPOČTU
C84: Stavba:
E85: =E7 -> Rekonštrukcia striech na objekte Domova mládeže a jedálne budovy školy - PD
C86: Objekt:
E87: SO 02 - Plochá strecha
C88: Časť:
E89: =E11 -> SO 02.1 - Plochá strecha - búracie práce
C91: Miesto: | F91: =F14 | I91: Dátum: | J91: =IF(J14="","",J14) -> 11. 3. 2026
...

Sheet SO 02.2 - Plochá strecha ...
AT2: {82a0fdd5-a33a-404d-9ed3-a66a16c6e2ab}
AT3: 0
D4: KRYCÍ LIST ROZPOČTU | M4: v --- nižšie sa nachádzajú doplnkové a pomocné údaje k zostavám --- v | AT4: False
D6: Stavba:
E7: ='Rekapitulácia stavby'!K6 -> Rekonštrukcia striech na objekte Domova mládeže a jedálne budovy školy - PD
D8: Objekt:
E9: SO 02 - Plochá strecha
D10: Časť:
E11: SO 02.2 - Plochá strecha - nový stav
D13: JKSO: | I13: ČS:
D14: Miesto: | I14: Dátum: | J14: ='Rekapitulácia stavby'!AN8 -> 11. 3. 2026
D16: Objednávateľ: | I16: IČO:
I17: IČ DPH:
D19: Zhotoviteľ: | I19: IČO: | J19: 00896225
E20: Swietelsky-Slovakia spol. s r.o. | I20: IČ DPH: | J20: SK2020294144
D22: Projektant: | I22: IČO:
I23: IČ DPH:
D25: Spracovateľ: | I25: IČO:
I26: IČ DPH:
D28: Poznámka:
D32: Cena bez DPH | J32: =ROUND(J132, 2) -> 163287.4
F34: Základ dane | I34: Sadzba dane | J34: Výška dane
D35: DPH | E35: základná | F35: =ROUND((SUM(BE132:BE198)), 2) -> 0 | I35: 0.23 | J35: =ROUND(((SUM(BE132:BE198))*I35), 2) -> 0
E36: znížená | F36: =ROUND((SUM(BF132:BF198)), 2) -> 163287.4 | I36: 0.23 | J36: =ROUND(((SUM(BF132:BF198))*I36), 2) -> 37556.1
E37: zákl. prenesená | F37: =ROUND((SUM(BG132:BG198)), 2) -> 0 | I37: 0.23 | J37: =0 -> 0
E38: zníž. prenesená | F38: =ROUND((SUM(BH132:BH198)), 2) -> 0 | I38: 0.23 | J38: =0 -> 0
E39: nulová | F39: =ROUND((SUM(BI132:BI198)), 2) -> 0 | I39: 0 | J39: =0 -> 0
D41: Cena s DPH | G41: v | H41: EUR | J41: =SUM(J32:J39) -> 200843.5
D50: Projektant | G50: Spracovateľ
D61: Dátum a podpis: | F61: Pečiatka | G61: Dátum a podpis: | J61: Pečiatka
D65: Objednávateľ | G65: Zhotoviteľ
D76: Dátum a podpis: | F76: Pečiatka | G76: Dátum a podpis: | J76: Pečiatka
C82: REKAPITULÁCIA ROZPOČTU
C84: Stavba:
E85: =E7 -> Rekonštrukcia striech na objekte Domova mládeže a jedálne budovy školy - PD
C86: Objekt:
E87: SO 02 - Plochá strecha
C88: Časť:
E89: =E11 -> SO 02.2 - Plochá strecha - nový stav
C91: Miesto: | F91: =F14 | I91: Dátum: | J91: =IF(J14="","",J14) -> 11. 3. 2026
...

Sheet SO 02.3 - Bleskozvod a uz...
AT2: {c7facb9c-9e4e-4203-bef5-50d3d89992a5}
AT3: 0
D4: KRYCÍ LIST ROZPOČTU | M4: v --- nižšie sa nachádzajú doplnkové a pomocné údaje k zostavám --- v | AT4: False
D6: Stavba:
E7: ='Rekapitulácia stavby'!K6 -> Rekonštrukcia striech na objekte Domova mládeže a jedálne budovy školy - PD
D8: Objekt:
E9: SO 02 - Plochá strecha
D10: Časť:
E11: SO 02.3 - Bleskozvod a uzemnenie
D13: JKSO: | I13: ČS:
D14: Miesto: | I14: Dátum: | J14: ='Rekapitulácia stavby'!AN8 -> 11. 3. 2026
D16: Objednávateľ: | I16: IČO:
I17: IČ DPH:
D19: Zhotoviteľ: | I19: IČO: | J19: 00896225
E20: Swietelsky-Slovakia spol. s r.o. | I20: IČ DPH: | J20: SK2020294144
D22: Projektant: | I22: IČO:
I23: IČ DPH:
D25: Spracovateľ: | I25: IČO:
I26: IČ DPH:
D28: Poznámka:
D32: Cena bez DPH | J32: =ROUND(J130, 2) -> 10065.41
F34: Základ dane | I34: Sadzba dane | J34: Výška dane
D35: DPH | E35: základná | F35: =ROUND((SUM(BE130:BE176)), 2) -> 0 | I35: 0.23 | J35: =ROUND(((SUM(BE130:BE176))*I35), 2) -> 0
E36: znížená | F36: =ROUND((SUM(BF130:BF176)), 2) -> 10065.41 | I36: 0.23 | J36: =ROUND(((SUM(BF130:BF176))*I36), 2) -> 2315.04
E37: zákl. prenesená | F37: =ROUND((SUM(BG130:BG176)), 2) -> 0 | I37: 0.23 | J37: =0 -> 0
E38: zníž. prenesená | F38: =ROUND((SUM(BH130:BH176)), 2) -> 0 | I38: 0.23 | J38: =0 -> 0
E39: nulová | F39: =ROUND((SUM(BI130:BI176)), 2) -> 0 | I39: 0 | J39: =0 -> 0
D41: Cena s DPH | G41: v | H41: EUR | J41: =SUM(J32:J39) -> 12380.45
D50: Projektant | G50: Spracovateľ
D61: Dátum a podpis: | F61: Pečiatka | G61: Dátum a podpis: | J61: Pečiatka
D65: Objednávateľ | G65: Zhotoviteľ
D76: Dátum a podpis: | F76: Pečiatka | G76: Dátum a podpis: | J76: Pečiatka
C82: REKAPITULÁCIA ROZPOČTU
C84: Stavba:
E85: =E7 -> Rekonštrukcia striech na objekte Domova mládeže a jedálne budovy školy - PD
C86: Objekt:
E87: SO 02 - Plochá strecha
C88: Časť:
E89: =E11 -> SO 02.3 - Bleskozvod a uzemnenie
C91: Miesto: | F91: =F14 | I91: Dátum: | J91: =IF(J14="","",J14) -> 11. 3. 2026
...
