Workbook

Sheet Rekapitulácia stavby
A1: Export Komplet | BA1: 2.0 | BT1: False | BU1: False | BV1: {9d728a2e-4c32-4464-b737-e1c7b45259d8}
AR2: >> skryté stĺpce << | BS2: 0,01 | BT2: 23
BS3: 0,01 | BT3: 23
D4: REKAPITULÁCIA STAVBY | AS4: v --- nižšie sa nachádzajú doplnkové a pomocné údaje k zostavám --- v | BS4: 0,001
D5: Kód: | K5: VS_01 | BS5: 0,01
D6: Stavba: | K6: BJ - naviac práce | BS6: 0,01
D7: JKSO: | AK7: ČS: | BS7: 0,01
D8: Miesto: | AK8: Dátum: | AN8: 14. 9. 2026 | BS8: 0,01
BS9: 0,01
D10: Objednávateľ: | AK10: IČO: | AN10: 42035261 | BS10: 0,01
E11: Spojená škola Juraja Henischa | AK11: IČ DPH: | AN11: SK2022231651 | BS11: 0,01
BS12: 0,01
D13: Zhotoviteľ: | AK13: IČO: | AN13: 00896225 | BS13: 0,01
E14: Swietelsky-Slovakia spol. s r.o. | AK14: IČ DPH: | AN14: SK2020294144 | BS14: 0,01
BS15: False
D16: Projektant: | AK16: IČO: | BS16: False
AK17: IČ DPH: | BS17: True
BS18: 0,01
D19: Spracovateľ: | AK19: IČO: | BS19: 0,01
AK20: IČ DPH: | BS20: True
D22: Poznámka:
D26: Cena bez DPH | AK26: =ROUND(AG94,2) -> 9458.64
L28: Sadzba dane | W28: Základ dane | AK28: Výška dane
D29: DPH | F29: základná | L29: 0.23 | W29: =ROUND(AZ94, 2) -> 0 | AK29: =ROUND(AV94, 2) -> 0
F30: znížená | L30: 0.23 | W30: =ROUND(BA94, 2) -> 9458.64 | AK30: =ROUND(AW94, 2) -> 2175.49
F31: zákl. prenesená | L31: 0.23 | W31: =ROUND(BB94, 2) -> 0 | AK31: 0
F32: zníž. prenesená | L32: 0.23 | W32: =ROUND(BC94, 2) -> 0 | AK32: 0
F33: nulová | L33: 0 | W33: =ROUND(BD94, 2) -> 0 | AK33: 0
D35: Cena s DPH | T35: v | X35: EUR | AK35: =SUM(AK26:AK33) -> 11634.13
D49: Projektant | AH49: Spracovateľ
D60: Dátum a podpis: | V60: Pečiatka | AH60: Dátum a podpis: | AM60: Pečiatka
D64: Objednávateľ | AH64: Zhotoviteľ
D75: Dátum a podpis: | V75: Pečiatka | AH75: Dátum a podpis: | AM75: Pečiatka
C82: REKAPITULÁCIA OBJEKTOV STAVBY
C84: Kód: | L84: =K5 -> VS_01
C85: Stavba: | L85: =K6 -> BJ - naviac práce
C87: Miesto: | L87: =IF(K8="","",K8) | AI87: Dátum: | AM87: =IF(AN8= "","",AN8) -> 14. 9. 2026
C89: Objednávateľ: | L89: =IF(E11= "","",E11) -> Spojená škola Juraja Henischa | AI89: Projektant: | AM89: =IF(E17="","",E17) | AS89: Informatívne údaje z listov zákaziek
C90: Zhotoviteľ: | L90: =IF(E14="","",E14) -> Swietelsky-Slovakia spol. s r.o. | AI90: Spracovateľ: | AM90: =IF(E20="","",E20)
C92: Kód | I92: Popis | AG92: Cena bez DPH [EUR] | AN92: Cena s DPH [EUR] | AQ92: Typ | AS92: z toho Ostat._x000D_ náklady [EUR] | AT92: DPH [EUR] | AU92: Normohodiny [h] | AV92: DPH základná [EUR] | AW92: DPH znížená [EUR] | AX92: DPH základná prenesená_x000D_ [EUR] | AY92: DPH znížená prenesená_x000D_ [EUR] | AZ92: Základňa_x000D_ DPH základná | BA92: Základňa_x000D_ DPH znížená | BB92: Základňa_x000D_ DPH zákl. prenesená | BC92: Základňa_x000D_ DPH zníž. prenesená | BD92: Základňa_x000D_ DPH nulová
C94: Náklady z rozpočtov | AG94: =ROUND(AG95,2) -> 9458.64 | AN94: =SUM(AG94,AT94) -> 11634.13 | AS94: =ROUND(AS95,2) -> 0 | AT94: =ROUND(SUM(AV94:AW94),2) -> 2175.49 | AU94: =ROUND(AU95,5) -> #REF! | AV94: =ROUND(AZ94*L29,2) -> 0 | AW94: =ROUND(BA94*L30,2) -> 2175.49 | AX94: =ROUND(BB94*L29,2) -> 0 | AY94: =ROUND(BC94*L30,2) -> 0 | AZ94: =ROUND(AZ95,2) -> 0 | BA94: =ROUND(BA95,2) -> 9458.64 | BB94: =ROUND(BB95,2) -> 0 | BC94: =ROUND(BC95,2) -> 0 | BD94: =ROUND(BD95,2) -> 0 | BS94: D | BT94: 0 | BV94: IMPORT | BW94: {9d728a2e-4c32-4464-b737-e1c7b45259d8} | BX94: {00000000-0000-0000-0000-000000000000}
A95: / | D95: VS_01 | J95: BJ - naviac práce | AG95: ='VS_01 - BJ - naviac práce'!J28 -> 9458.64 | AN95: =SUM(AG95,AT95) -> 11634.13 | AQ95: STA | AS95: 0 | AT95: =ROUND(SUM(AV95:AW95),2) -> 2175.49 | AU95: ='VS_01 - BJ - naviac práce'!P119 -> #REF! | AV95: ='VS_01 - BJ - naviac práce'!J31 -> 0 | AW95: ='VS_01 - BJ - naviac práce'!J32 -> 2175.49 | AX95: ='VS_01 - BJ - naviac práce'!J33 -> 0 | AY95: ='VS_01 - BJ - naviac práce'!J34 -> 0 | AZ95: ='VS_01 - BJ - naviac práce'!F31 -> 0 | BA95: ='VS_01 - BJ - naviac práce'!F32 -> 9458.64 | BB95: ='VS_01 - BJ - naviac práce'!F33 -> 0 | BC95: ='VS_01 - BJ - naviac práce'!F34 -> 0 | BD95: ='VS_01 - BJ - naviac práce'!F35 -> 0 | BT95: 1 | BU95: ###NOINSERT### | BV95: IMPORT | BW95: {9d728a2e-4c32-4464-b737-e1c7b45259d8} | BX95: {00000000-0000-0000-0000-000000000000}

Sheet VS_01 - BJ - naviac práce
L2: >> skryté stĺpce << | AT2: {9d728a2e-4c32-4464-b737-e1c7b45259d8}
AT3: 0
D4: KRYCÍ LIST ROZPOČTU | M4: v --- nižšie sa nachádzajú doplnkové a pomocné údaje k zostavám --- v | AT4: False
D6: Stavba:
E7: BJ - naviac práce
D9: JKSO: | I9: ČS:
D10: Miesto: | I10: Dátum: | J10: ='Rekapitulácia stavby'!AN8 -> 14. 9. 2026
D12: Objednávateľ: | I12: IČO: | J12: 42035261
E13: Spojená škola Juraja Henischa | I13: IČ DPH: | J13: SK2022231651
D15: Zhotoviteľ: | I15: IČO: | J15: 00896225
E16: Swietelsky-Slovakia spol. s r.o. | I16: IČ DPH: | J16: SK2020294144
D18: Projektant: | I18: IČO:
I19: IČ DPH:
D21: Spracovateľ: | I21: IČO:
I22: IČ DPH:
D24: Poznámka:
D28: Cena bez DPH | J28: =ROUND(J119, 2) -> 9458.64
F30: Základ dane | I30: Sadzba dane | J30: Výška dane
D31: DPH | E31: základná | F31: =ROUND((SUM(BE119:BE144)), 2) -> 0 | I31: 0.23 | J31: =ROUND(((SUM(BE119:BE144))*I31), 2) -> 0
E32: znížená | F32: =ROUND((SUM(BF119:BF144)), 2) -> 9458.64 | I32: 0.23 | J32: =ROUND(((SUM(BF119:BF144))*I32), 2) -> 2175.49
E33: zákl. prenesená | F33: =ROUND((SUM(BG119:BG144)), 2) -> 0 | I33: 0.23 | J33: =0 -> 0
E34: zníž. prenesená | F34: =ROUND((SUM(BH119:BH144)), 2) -> 0 | I34: 0.23 | J34: =0 -> 0
E35: nulová | F35: =ROUND((SUM(BI119:BI144)), 2) -> 0 | I35: 0 | J35: =0 -> 0
D37: Cena s DPH | G37: v | H37: EUR | J37: =SUM(J28:J35) -> 11634.13
D50: Projektant | G50: Spracovateľ
D61: Dátum a podpis: | F61: Pečiatka | G61: Dátum a podpis: | J61: Pečiatka
D65: Objednávateľ | G65: Zhotoviteľ
D76: Dátum a podpis: | F76: Pečiatka | G76: Dátum a podpis: | J76: Pečiatka
C82: REKAPITULÁCIA ROZPOČTU
C84: Stavba:
E85: =E7 -> BJ - naviac práce
C87: Miesto: | F87: =F10 | I87: Dátum: | J87: =IF(J10="","",J10) -> 14. 9. 2026
C89: Objednávateľ: | F89: =E13 -> Spojená škola Juraja Henischa | I89: Projektant: | J89: =E19
C90: Zhotoviteľ: | F90: =IF(E16="","",E16) -> Swietelsky-Slovakia spol. s r.o. | I90: Spracovateľ: | J90: =E22
C92: Kód dielu - Popis | J92: Cena celkom [EUR]
C94: Náklady z rozpočtu | J94: =J119 -> 9458.64 | AU94: -1
D95: HSV - Práce a dodávky HSV | J95: =J120 -> 9458.64
D96: 1 - Zemné práce | J96: =J121 -> 1127.9
D97: 2 - Zakladanie | J97: =J127 -> 2478.9
D98: 4 - Vodorovné konštrukcie | J98: =J131 -> 787.6
D99: 8 - Rúrové vedenie | J99: =J133 -> 3804.14
D100: 99 - Presun hmôt HSV | J100: =J143 -> 1260.1
D101: HZS - Hodinové zúčtovacie sadzby | J101: =#REF! -> #REF!
C108: ROZPOČET
C110: Stavba:
E111: =E7 -> BJ - naviac práce
C113: Miesto: | F113: =F10 | I113: Dátum: | J113: =IF(J10="","",J10) -> 14. 9. 2026
C115: Objednávateľ: | F115: =E13 -> Spojená škola Juraja Henischa | I115: Projektant: | J115: =E19
C116: Zhotoviteľ: | F116: =IF(E16="","",E16) -> Swietelsky-Slovakia spol. s r.o. | I116: Spracovateľ: | J116: =E22
C118: PČ | D118: Typ | E118: Kód | F118: Popis | G118: MJ | H118: Množstvo | I118: J.cena [EUR] | J118: Cena celkom [EUR] | K118: Cenová sústava | N118: DPH | O118: J. Nh [h] | P118: Nh celkom [h] | Q118: J. hmotnosť [t] | R118: Hmotnosť celkom [t] | S118: J. suť [t] | T118: Suť Celkom [t]
C119: Náklady z rozpočtu | J119: =ROUND(J121+J127+J131+J133+J143,2) -> 9458.64 | P119: =P120+#REF! -> #REF! | R119: =R120+#REF! -> #REF! | T119: =T120+#REF! -> #REF! | AT119: D | AU119: -1 | BK119: =BK120+#REF! -> #REF!
D120: D | E120: HSV | F120: Práce a dodávky HSV | J120: =BK120 -> 9458.64 | P120: =P121+P127+P131+P133+P143 -> 64.361132 | R120: =R121+R127+R131+R133+R143 -> 77.359488 | T120: =T121+T127+T131+T133+T143 -> 0 | AR120: 1 | AT120: D | AU120: 0 | AY120: ROZPOCET | BK120: =BK121+BK127+BK131+BK133+BK143 -> 9458.64
D121: D | E121: 1 | F121: Zemné práce | J121: =BK121 -> 1127.9 | P121: =SUM(P122:P126) -> 0 | R121: =SUM(R122:R126) -> 0 | T121: =SUM(T122:T126) -> 0 | AR121: 1 | AT121: D | AU121: 1 | AY121: ROZPOCET | BK121: =SUM(BK122:BK126) -> 1127.9
C122: 1 | D122: K | E122: 131201101.S | F122: Výkop nezapaženej jamy v hornine 3, do 100 m3 | G122: m3 | H122: 36 | I122: 17.31 | J122: =ROUND(I122*H122,2) -> 623.16 | N122: znížená | O122: 0 | P122: =O122*H122 -> 0 | Q122: 0 | R122: =Q122*H122 -> 0 | S122: 0 | T122: =S122*H122 -> 0 | AR122: 4 | AT122: K | AU122: 2 | AY122: ROZPOCET | BE122: =IF(N122="základná",J122,0) -> 0 | BF122: =IF(N122="znížená",J122,0) -> 623.16 | BG122: =IF(N122="zákl. prenesená",J122,0) -> 0 | BH122: =IF(N122="zníž. prenesená",J122,0) -> 0 | BI122: =IF(N122="nulová",J122,0) -> 0 | BJ122: 2 | BK122: =ROUND(I122*H122,2) -> 623.16 | BL122: 4 | BM122: 2010236067
C123: 4 | D123: K | E123: 132201101.S | F123: Výkop ryhy do šírky 600 mm v horn.3 do 100 m3 | G123: m3 | H123: 12 | I123: 32.24 | J123: =ROUND(I123*H123,2) -> 386.88 | N123: znížená | O123: 0 | P123: =O123*H123 -> 0 | Q123: 0 | R123: =Q123*H123 -> 0 | S123: 0 | T123: =S123*H123 -> 0 | AR123: 4 | AT123: K | AU123: 2 | AY123: ROZPOCET | BE123: =IF(N123="základná",J123,0) -> 0 | BF123: =IF(N123="znížená",J123,0) -> 386.88 | BG123: =IF(N123="zákl. prenesená",J123,0) -> 0 | BH123: =IF(N123="zníž. prenesená",J123,0) -> 0 | BI123: =IF(N123="nulová",J123,0) -> 0 | BJ123: 2 | BK123: =ROUND(I123*H123,2) -> 386.88 | BL123: 4 | BM123: -2048372472
C124: 5 | D124: K | E124: 132201109.S | F124: Príplatok k cene za lepivosť pri hĺbení rýh šírky do 600 mm zapažených i nezapažených s urovnaním dna v hornine 3 | G124: m3 | H124: 3.6 | I124: 8.89 | J124: =ROUND(I124*H124,2) -> 32 | N124: znížená | O124: 0 | P124: =O124*H124 -> 0 | Q124: 0 | R124: =Q124*H124 -> 0 | S124: 0 | T124: =S124*H124 -> 0 | AR124: 4 | AT124: K | AU124: 2 | AY124: ROZPOCET | BE124: =IF(N124="základná",J124,0) -> 0 | BF124: =IF(N124="znížená",J124,0) -> 32 | BG124: =IF(N124="zákl. prenesená",J124,0) -> 0 | BH124: =IF(N124="zníž. prenesená",J124,0) -> 0 | BI124: =IF(N124="nulová",J124,0) -> 0 | BJ124: 2 | BK124: =ROUND(I124*H124,2) -> 32 | BL124: 4 | BM124: -2114780591
C125: 6 | D125: K | E125: 162301121.S | F125: Vodorovné premiestnenie výkopku po spevnenej ceste z horniny tr.1-4, nad 100 do 1000 m3 na vzdialenosť nad 50 do 500 m | G125: m3 | H125: 30 | I125: 1.88 | J125: =ROUND(I125*H125,2) -> 56.4 | N125: znížená | O125: 0 | P125: =O125*H125 -> 0 | Q125: 0 | R125: =Q125*H125 -> 0 | S125: 0 | T125: =S125*H125 -> 0 | AR125: 4 | AT125: K | AU125: 2 | AY125: ROZPOCET | BE125: =IF(N125="základná",J125,0) -> 0 | BF125: =IF(N125="znížená",J125,0) -> 56.4 | BG125: =IF(N125="zákl. prenesená",J125,0) -> 0 | BH125: =IF(N125="zníž. prenesená",J125,0) -> 0 | BI125: =IF(N125="nulová",J125,0) -> 0 | BJ125: 2 | BK125: =ROUND(I125*H125,2) -> 56.4 | BL125: 4 | BM125: -710948773
C126: 3 | D126: K | E126: 174101002.S | F126: Zásyp sypaninou so zhutnením jám, šachiet, rýh, zárezov alebo okolo objektov nad 100 do 1000 m3 | G126: m3 | H126: 6 | I126: 4.91 | J126: =ROUND(I126*H126,2) -> 29.46 | N126: znížená | O126: 0 | P126: =O126*H126 -> 0 | Q126: 0 | R126: =Q126*H126 -> 0 | S126: 0 | T126: =S126*H126 -> 0 | AR126: 4 | AT126: K | AU126: 2 | AY126: ROZPOCET | BE126: =IF(N126="základná",J126,0) -> 0 | BF126: =IF(N126="znížená",J126,0) -> 29.46 | BG126: =IF(N126="zákl. prenesená",J126,0) -> 0 | BH126: =IF(N126="zníž. prenesená",J126,0) -> 0 | BI126: =IF(N126="nulová",J126,0) -> 0 | BJ126: 2 | BK126: =ROUND(I126*H126,2) -> 29.46 | BL126: 4 | BM126: -2062923137
D127: D | E127: 2 | F127: Zakladanie | J127: =BK127 -> 2478.9 | P127: =SUM(P128:P130) -> 28.38 | R127: =SUM(R128:R130) -> 48.921948 | T127: =SUM(T128:T130) -> 0 | AR127: 1 | AT127: D | AU127: 1 | AY127: ROZPOCET | BK127: =SUM(BK128:BK130) -> 2478.9
C128: 128 | D128: K | E128: 211521141.S | F128: Výplň odvodňovacieho rebra alebo trativodu do rýh kamenivom hrubým drveným frakcie 63-125 mm | G128: m3 | H128: 30 | I128: 68.75 | J128: =ROUND(I128*H128,2) -> 2062.5 | N128: znížená | O128: 0.946 | P128: =O128*H128 -> 28.38 | Q128: 1.63 | R128: =Q128*H128 -> 48.9 | S128: 0 | T128: =S128*H128 -> 0 | AR128: 4 | AT128: K | AU128: 2 | AY128: ROZPOCET | BE128: =IF(N128="základná",J128,0) -> 0 | BF128: =IF(N128="znížená",J128,0) -> 2062.5 | BG128: =IF(N128="zákl. prenesená",J128,0) -> 0 | BH128: =IF(N128="zníž. prenesená",J128,0) -> 0 | BI128: =IF(N128="nulová",J128,0) -> 0 | BJ128: 2 | BK128: =ROUND(I128*H128,2) -> 2062.5 | BL128: 4 | BM128: 1862611709
C129: 37 | D129: K | E129: 211971110.S | F129: Zhotovenie opláštenia výplne z geotextílie, v ryhe alebo v záreze so stenami šikmými o skl. do 1:2,5 | G129: m2 | H129: 120 | I129: 1.85 | J129: =ROUND(I129*H129,2) -> 222 | N129: znížená | O129: 0 | P129: =O129*H129 -> 0 | Q129: 0.0001829 | R129: =Q129*H129 -> 0.021948 | S129: 0 | T129: =S129*H129 -> 0 | AR129: 4 | AT129: K | AU129: 2 | AY129: ROZPOCET | BE129: =IF(N129="základná",J129,0) -> 0 | BF129: =IF(N129="znížená",J129,0) -> 222 | BG129: =IF(N129="zákl. prenesená",J129,0) -> 0 | BH129: =IF(N129="zníž. prenesená",J129,0) -> 0 | BI129: =IF(N129="nulová",J129,0) -> 0 | BJ129: 2 | BK129: =ROUND(I129*H129,2) -> 222 | BL129: 4 | BM129: -1379616452
C130: 38 | D130: M | E130: 693110004710.S | F130: Geotextília polypropylénová netkaná 400 g/m2 | G130: m2 | H130: 120 | I130: 1.62 | J130: =ROUND(I130*H130,2) -> 194.4 | N130: znížená | O130: 0 | P130: =O130*H130 -> 0 | Q130: 0 | R130: =Q130*H130 -> 0 | S130: 0 | T130: =S130*H130 -> 0 | AR130: 8 | AT130: M | AU130: 2 | AY130: ROZPOCET | BE130: =IF(N130="základná",J130,0) -> 0 | BF130: =IF(N130="znížená",J130,0) -> 194.4 | BG130: =IF(N130="zákl. prenesená",J130,0) -> 0 | BH130: =IF(N130="zníž. prenesená",J130,0) -> 0 | BI130: =IF(N130="nulová",J130,0) -> 0 | BJ130: 2 | BK130: =ROUND(I130*H130,2) -> 194.4 | BL130: 4 | BM130: 163811562
D131: D | E131: 4 | F131: Vodorovné konštrukcie | J131: =BK131 -> 787.6 | P131: =P132 -> 0 | R131: =R132 -> 18.9077 | T131: =T132 -> 0 | AR131: 1 | AT131: D | AU131: 1 | AY131: ROZPOCET | BK131: =BK132 -> 787.6
C132: 69 | D132: K | E132: 451572111.S | F132: Lôžko pod potrubie, stoky a drobné objekty, v otvorenom výkope z kameniva drobného ťaženého 0-4 mm | G132: m3 | H132: 10 | I132: 78.76 | J132: =ROUND(I132*H132,2) -> 787.6 | N132: znížená | O132: 0 | P132: =O132*H132 -> 0 | Q132: 1.89077 | R132: =Q132*H132 -> 18.9077 | S132: 0 | T132: =S132*H132 -> 0 | AR132: 4 | AT132: K | AU132: 2 | AY132: ROZPOCET | BE132: =IF(N132="základná",J132,0) -> 0 | BF132: =IF(N132="znížená",J132,0) -> 787.6 | BG132: =IF(N132="zákl. prenesená",J132,0) -> 0 | BH132: =IF(N132="zníž. prenesená",J132,0) -> 0 | BI132: =IF(N132="nulová",J132,0) -> 0 | BJ132: 2 | BK132: =ROUND(I132*H132,2) -> 787.6 | BL132: 4 | BM132: 641353018
D133: D | E133: 8 | F133: Rúrové vedenie | J133: =BK133 -> 3804.14 | P133: =SUM(P134:P142) -> 0.553 | R133: =SUM(R134:R142) -> 9.52984 | T133: =SUM(T134:T142) -> 0 | AR133: 1 | AT133: D | AU133: 1 | AY133: ROZPOCET | BK133: =SUM(BK134:BK142) -> 3804.14
C134: 76 | D134: K | E134: 871324204.S | F134: Potrubie kanalizačné hladké plnostenné PP SN 10 DN 150 | G134: m | H134: 30 | I134: 19.3 | J134: =ROUND(I134*H134,2) -> 579 | N134: znížená | O134: 0 | P134: =O134*H134 -> 0 | Q134: 0 | R134: =Q134*H134 -> 0 | S134: 0 | T134: =S134*H134 -> 0 | AR134: 4 | AT134: K | AU134: 2 | AY134: ROZPOCET | BE134: =IF(N134="základná",J134,0) -> 0 | BF134: =IF(N134="znížená",J134,0) -> 579 | BG134: =IF(N134="zákl. prenesená",J134,0) -> 0 | BH134: =IF(N134="zníž. prenesená",J134,0) -> 0 | BI134: =IF(N134="nulová",J134,0) -> 0 | BJ134: 2 | BK134: =ROUND(I134*H134,2) -> 579 | BL134: 4 | BM134: -1420588340
C135: 80 | D135: K | E135: 892311000.S | F135: Skúška tesnosti kanalizácie D 150 mm | G135: m | H135: 30 | I135: 2.23 | J135: =ROUND(I135*H135,2) -> 66.9 | N135: znížená | O135: 0 | P135: =O135*H135 -> 0 | Q135: 0 | R135: =Q135*H135 -> 0 | S135: 0 | T135: =S135*H135 -> 0 | AR135: 4 | AT135: K | AU135: 2 | AY135: ROZPOCET | BE135: =IF(N135="základná",J135,0) -> 0 | BF135: =IF(N135="znížená",J135,0) -> 66.9 | BG135: =IF(N135="zákl. prenesená",J135,0) -> 0 | BH135: =IF(N135="zníž. prenesená",J135,0) -> 0 | BI135: =IF(N135="nulová",J135,0) -> 0 | BJ135: 2 | BK135: =ROUND(I135*H135,2) -> 66.9 | BL135: 4 | BM135: 578321852
C136: 123 | D136: M | E136: 592250004800.S | F136: Betónový studničný poklop dvojdielny, priemer 1000 mm, hrúbka 80 mm | G136: ks | H136: 8 | I136: 72.61 | J136: =ROUND(I136*H136,2) -> 580.88 | N136: znížená | O136: 0 | P136: =O136*H136 -> 0 | Q136: 0.145 | R136: =Q136*H136 -> 1.16 | S136: 0 | T136: =S136*H136 -> 0 | AR136: 8 | AT136: M | AU136: 2 | AY136: ROZPOCET | BE136: =IF(N136="základná",J136,0) -> 0 | BF136: =IF(N136="znížená",J136,0) -> 580.88 | BG136: =IF(N136="zákl. prenesená",J136,0) -> 0 | BH136: =IF(N136="zníž. prenesená",J136,0) -> 0 | BI136: =IF(N136="nulová",J136,0) -> 0 | BJ136: 2 | BK136: =ROUND(I136*H136,2) -> 580.88 | BL136: 4 | BM136: 417533152
C137: 43 | D137: K | E137: 894422053.S | F137: Osadenie betónových prefabrikovaných dielcov rovných skruží pre šachty DN 1000 | G137: ks | H137: 8 | I137: 43.51 | J137: =ROUND(I137*H137,2) -> 348.08 | N137: znížená | O137: 0 | P137: =O137*H137 -> 0 | Q137: 0.005605 | R137: =Q137*H137 -> 0.04484 | S137: 0 | T137: =S137*H137 -> 0 | AR137: 4 | AT137: K | AU137: 2 | AY137: ROZPOCET | BE137: =IF(N137="základná",J137,0) -> 0 | BF137: =IF(N137="znížená",J137,0) -> 348.08 | BG137: =IF(N137="zákl. prenesená",J137,0) -> 0 | BH137: =IF(N137="zníž. prenesená",J137,0) -> 0 | BI137: =IF(N137="nulová",J137,0) -> 0 | BJ137: 2 | BK137: =ROUND(I137*H137,2) -> 348.08 | BL137: 4 | BM137: 226452176
C138: 44 | D138: M | E138: 592240013720.S | F138: Skruž betónová TBS pre kanalizačnú šachtu DN 1000, výška 1000 mm, hr. steny 120 mm | G138: ks | H138: 8 | I138: 145.63 | J138: =ROUND(I138*H138,2) -> 1165.04 | N138: znížená | O138: 0 | P138: =O138*H138 -> 0 | Q138: 1.04 | R138: =Q138*H138 -> 8.32 | S138: 0 | T138: =S138*H138 -> 0 | AR138: 8 | AT138: M | AU138: 2 | AY138: ROZPOCET | BE138: =IF(N138="základná",J138,0) -> 0 | BF138: =IF(N138="znížená",J138,0) -> 1165.04 | BG138: =IF(N138="zákl. prenesená",J138,0) -> 0 | BH138: =IF(N138="zníž. prenesená",J138,0) -> 0 | BI138: =IF(N138="nulová",J138,0) -> 0 | BJ138: 2 | BK138: =ROUND(I138*H138,2) -> 1165.04 | BL138: 4 | BM138: 419258203
C139: 91 | D139: K | E139: 894810003.S | F139: Montáž PP revíznej kanalizačnej šachty priemeru 425 mm do výšky šachty 2 m s roznášacím prstencom a poklopom | G139: ks | H139: 8 | I139: 66.53 | J139: =ROUND(I139*H139,2) -> 532.24 | N139: znížená | O139: 0 | P139: =O139*H139 -> 0 | Q139: 0 | R139: =Q139*H139 -> 0 | S139: 0 | T139: =S139*H139 -> 0 | AR139: 4 | AT139: K | AU139: 2 | AY139: ROZPOCET | BE139: =IF(N139="základná",J139,0) -> 0 | BF139: =IF(N139="znížená",J139,0) -> 532.24 | BG139: =IF(N139="zákl. prenesená",J139,0) -> 0 | BH139: =IF(N139="zníž. prenesená",J139,0) -> 0 | BI139: =IF(N139="nulová",J139,0) -> 0 | BJ139: 2 | BK139: =ROUND(I139*H139,2) -> 532.24 | BL139: 4 | BM139: 1858049278
C140: 124 | D140: K | E140: 769021400.R | F140: Demontáž a Montáž výfukových kusov so sitom vrátane montážneho a spojovacieho materiálu | G140: kpl | H140: 1 | I140: 481 | J140: =ROUND(I140*H140,2) -> 481 | N140: znížená | O140: 0.553 | P140: =O140*H140 -> 0.553 | Q140: 0 | R140: =Q140*H140 -> 0 | S140: 0 | T140: =S140*H140 -> 0 | AR140: 16 | AT140: K | AU140: 2 | AY140: ROZPOCET | BE140: =IF(N140="základná",J140,0) -> 0 | BF140: =IF(N140="znížená",J140,0) -> 481 | BG140: =IF(N140="zákl. prenesená",J140,0) -> 0 | BH140: =IF(N140="zníž. prenesená",J140,0) -> 0 | BI140: =IF(N140="nulová",J140,0) -> 0 | BJ140: 2 | BK140: =ROUND(I140*H140,2) -> 481 | BL140: 16 | BM140: 1781130574
C141: 125 | D141: M | E141: 4297200147.R | F141: Oblúk prechod. 90° 400x240/600x240 + šikmý kus so sitom 240x600, atyp | G141: ks | H141: 1 | I141: 16 | J141: =ROUND(I141*H141,2) -> 16 | N141: znížená | O141: 0 | P141: =O141*H141 -> 0 | Q141: 0.0025 | R141: =Q141*H141 -> 0.0025 | S141: 0 | T141: =S141*H141 -> 0 | AR141: 32 | AT141: M | AU141: 2 | AY141: ROZPOCET | BE141: =IF(N141="základná",J141,0) -> 0 | BF141: =IF(N141="znížená",J141,0) -> 16 | BG141: =IF(N141="zákl. prenesená",J141,0) -> 0 | BH141: =IF(N141="zníž. prenesená",J141,0) -> 0 | BI141: =IF(N141="nulová",J141,0) -> 0 | BJ141: 2 | BK141: =ROUND(I141*H141,2) -> 16 | BL141: 16 | BM141: -1814177580
C142: 126 | D142: M | E142: 429720010.R | F142: Oblúk prechod. 90° 400x800/600x800 + šikmý kus so sitom 800x600, atyp | G142: ks | H142: 1 | I142: 35 | J142: =ROUND(I142*H142,2) -> 35 | N142: znížená | O142: 0 | P142: =O142*H142 -> 0 | Q142: 0.0025 | R142: =Q142*H142 -> 0.0025 | S142: 0 | T142: =S142*H142 -> 0 | AR142: 32 | AT142: M | AU142: 2 | AY142: ROZPOCET | BE142: =IF(N142="základná",J142,0) -> 0 | BF142: =IF(N142="znížená",J142,0) -> 35 | BG142: =IF(N142="zákl. prenesená",J142,0) -> 0 | BH142: =IF(N142="zníž. prenesená",J142,0) -> 0 | BI142: =IF(N142="nulová",J142,0) -> 0 | BJ142: 2 | BK142: =ROUND(I142*H142,2) -> 35 | BL142: 16 | BM142: 227280259
D143: D | E143: 99 | F143: Presun hmôt HSV | J143: =BK143 -> 1260.1 | P143: =P144 -> 35.428132 | R143: =R144 -> 0 | T143: =T144 -> 0 | AR143: 1 | AT143: D | AU143: 1 | AY143: ROZPOCET | BK143: =BK144 -> 1260.1
C144: 129 | D144: K | E144: 998274101.S | F144: Presun hmôt pre rúrové vedenie hĺbené z rúr bet. alebo železobetónových v otvorenom výkope | G144: t | H144: 77.354 | I144: 16.29 | J144: =ROUND(I144*H144,2) -> 1260.1 | N144: znížená | O144: 0.458 | P144: =O144*H144 -> 35.428132 | Q144: 0 | R144: =Q144*H144 -> 0 | S144: 0 | T144: =S144*H144 -> 0 | AR144: 4 | AT144: K | AU144: 2 | AY144: ROZPOCET | BE144: =IF(N144="základná",J144,0) -> 0 | BF144: =IF(N144="znížená",J144,0) -> 1260.1 | BG144: =IF(N144="zákl. prenesená",J144,0) -> 0 | BH144: =IF(N144="zníž. prenesená",J144,0) -> 0 | BI144: =IF(N144="nulová",J144,0) -> 0 | BJ144: 2 | BK144: =ROUND(I144*H144,2) -> 1260.1 | BL144: 4 | BM144: 1246311743
