Workbook

Sheet Rekapitulácia stavby
A1: Export Komplet | BA1: 2.0 | BT1: False | BU1: False | BV1: {9d728a2e-4c32-4464-b737-e1c7b45259d8}
AR2: >> skryté stĺpce << | BS2: 0,01 | BT2: 23
BS3: 0,01 | BT3: 23
D4: REKAPITULÁCIA STAVBY | AS4: v --- nižšie sa nachádzajú doplnkové a pomocné údaje k zostavám --- v | BS4: 0,001
D5: Kód: | K5: VS_01 | BS5: 0,01
D6: Stavba: | K6: BJ - naviac práce | BS6: 0,01
D7: JKSO: | AK7: ČS: | BS7: 0,01
D8: Miesto: | AK8: Dátum: | AN8: 14. 9. 2026 | BS8: 0,01
BS9: 0,01
D10: Objednávateľ: | AK10: IČO: | AN10: 42035261 | BS10: 0,01
E11: Spojená škola Juraja Henischa | AK11: IČ DPH: | AN11: SK2022231651 | BS11: 0,01
BS12: 0,01
D13: Zhotoviteľ: | AK13: IČO: | AN13: 00896225 | BS13: 0,01
E14: Swietelsky-Slovakia spol. s r.o. | AK14: IČ DPH: | AN14: SK2020294144 | BS14: 0,01
BS15: False
D16: Projektant: | AK16: IČO: | BS16: False
AK17: IČ DPH: | BS17: True
BS18: 0,01
D19: Spracovateľ: | AK19: IČO: | BS19: 0,01
AK20: IČ DPH: | BS20: True
D22: Poznámka:
D26: Cena bez DPH | AK26: =ROUND(AG94,2) -> 9458.64
L28: Sadzba dane | W28: Základ dane | AK28: Výška dane
D29: DPH | F29: základná | L29: 0.23 | W29: =ROUND(AZ94, 2) -> 0 | AK29: =ROUND(AV94, 2) -> 0
F30: znížená | L30: 0.23 | W30: =ROUND(BA94, 2) -> 9458.64 | AK30: =ROUND(AW94, 2) -> 2175.49
F31: zákl. prenesená | L31: 0.23 | W31: =ROUND(BB94, 2) -> 0 | AK31: 0
F32: zníž. prenesená | L32: 0.23 | W32: =ROUND(BC94, 2) -> 0 | AK32: 0
F33: nulová | L33: 0 | W33: =ROUND(BD94, 2) -> 0 | AK33: 0
D35: Cena s DPH | T35: v | X35: EUR | AK35: =SUM(AK26:AK33) -> 11634.13
D49: Projektant | AH49: Spracovateľ
D60: Dátum a podpis: | V60: Pečiatka | AH60: Dátum a podpis: | AM60: Pečiatka
D64: Objednávateľ | AH64: Zhotoviteľ
D75: Dátum a podpis: | V75: Pečiatka | AH75: Dátum a podpis: | AM75: Pečiatka
C82: REKAPITULÁCIA OBJEKTOV STAVBY
C84: Kód: | L84: =K5 -> VS_01
C85: Stavba: | L85: =K6 -> BJ - naviac práce
C87: Miesto: | L87: =IF(K8="","",K8) | AI87: Dátum: | AM87: =IF(AN8= "","",AN8) -> 14. 9. 2026
C89: Objednávateľ: | L89: =IF(E11= "","",E11) -> Spojená škola Juraja Henischa | AI89: Projektant: | AM89: =IF(E17="","",E17) | AS89: Informatívne údaje z listov zákaziek
C90: Zhotoviteľ: | L90: =IF(E14="","",E14) -> Swietelsky-Slovakia spol. s r.o. | AI90: Spracovateľ: | AM90: =IF(E20="","",E20)
C92: Kód | I92: Popis | AG92: Cena bez DPH [EUR] | AN92: Cena s DPH [EUR] | AQ92: Typ | AS92: z toho Ostat._x000D_ náklady [EUR] | AT92: DPH [EUR] | AU92: Normohodiny [h] | AV92: DPH základná [EUR] | AW92: DPH znížená [EUR] | AX92: DPH základná prenesená_x000D_ [EUR] | AY92: DPH znížená prenesená_x000D_ [EUR] | AZ92: Základňa_x000D_ DPH základná | BA92: Základňa_x000D_ DPH znížená | BB92: Základňa_x000D_ DPH zákl. prenesená | BC92: Základňa_x000D_ DPH zníž. prenesená | BD92: Základňa_x000D_ DPH nulová
...

Sheet VS_01 - BJ - naviac práce
L2: >> skryté stĺpce << | AT2: {9d728a2e-4c32-4464-b737-e1c7b45259d8}
AT3: 0
D4: KRYCÍ LIST ROZPOČTU | M4: v --- nižšie sa nachádzajú doplnkové a pomocné údaje k zostavám --- v | AT4: False
D6: Stavba:
E7: BJ - naviac práce
D9: JKSO: | I9: ČS:
D10: Miesto: | I10: Dátum: | J10: ='Rekapitulácia stavby'!AN8 -> 14. 9. 2026
D12: Objednávateľ: | I12: IČO: | J12: 42035261
E13: Spojená škola Juraja Henischa | I13: IČ DPH: | J13: SK2022231651
D15: Zhotoviteľ: | I15: IČO: | J15: 00896225
E16: Swietelsky-Slovakia spol. s r.o. | I16: IČ DPH: | J16: SK2020294144
D18: Projektant: | I18: IČO:
I19: IČ DPH:
D21: Spracovateľ: | I21: IČO:
I22: IČ DPH:
D24: Poznámka:
D28: Cena bez DPH | J28: =ROUND(J119, 2) -> 9458.64
F30: Základ dane | I30: Sadzba dane | J30: Výška dane
D31: DPH | E31: základná | F31: =ROUND((SUM(BE119:BE144)), 2) -> 0 | I31: 0.23 | J31: =ROUND(((SUM(BE119:BE144))*I31), 2) -> 0
E32: znížená | F32: =ROUND((SUM(BF119:BF144)), 2) -> 9458.64 | I32: 0.23 | J32: =ROUND(((SUM(BF119:BF144))*I32), 2) -> 2175.49
E33: zákl. prenesená | F33: =ROUND((SUM(BG119:BG144)), 2) -> 0 | I33: 0.23 | J33: =0 -> 0
E34: zníž. prenesená | F34: =ROUND((SUM(BH119:BH144)), 2) -> 0 | I34: 0.23 | J34: =0 -> 0
E35: nulová | F35: =ROUND((SUM(BI119:BI144)), 2) -> 0 | I35: 0 | J35: =0 -> 0
D37: Cena s DPH | G37: v | H37: EUR | J37: =SUM(J28:J35) -> 11634.13
D50: Projektant | G50: Spracovateľ
D61: Dátum a podpis: | F61: Pečiatka | G61: Dátum a podpis: | J61: Pečiatka
D65: Objednávateľ | G65: Zhotoviteľ
D76: Dátum a podpis: | F76: Pečiatka | G76: Dátum a podpis: | J76: Pečiatka
C82: REKAPITULÁCIA ROZPOČTU
C84: Stavba:
E85: =E7 -> BJ - naviac práce
C87: Miesto: | F87: =F10 | I87: Dátum: | J87: =IF(J10="","",J10) -> 14. 9. 2026
C89: Objednávateľ: | F89: =E13 -> Spojená škola Juraja Henischa | I89: Projektant: | J89: =E19
C90: Zhotoviteľ: | F90: =IF(E16="","",E16) -> Swietelsky-Slovakia spol. s r.o. | I90: Spracovateľ: | J90: =E22
C92: Kód dielu - Popis | J92: Cena celkom [EUR]
C94: Náklady z rozpočtu | J94: =J119 -> 9458.64 | AU94: -1
D95: HSV - Práce a dodávky HSV | J95: =J120 -> 9458.64
D96: 1 - Zemné práce | J96: =J121 -> 1127.9
D97: 2 - Zakladanie | J97: =J127 -> 2478.9
D98: 4 - Vodorovné konštrukcie | J98: =J131 -> 787.6
...
