Workbook

Sheet Rekapitulácia stavby
A1: Export Komplet | BA1: 2.0 | BT1: False | BU1: False | BV1: {8f2cd421-1fdb-4601-9de8-a511a19ecfbe}
AR2: >> skryté stĺpce << | BS2: 0,01 | BT2: 23
BS3: 0,01 | BT3: 23
D4: REKAPITULÁCIA STAVBY | AS4: v --- nižšie sa nachádzajú doplnkové a pomocné údaje k zostavám --- v | BS4: 0,001
D5: Kód: | BS5: 0,01
D6: Stavba: | K6: Oprava havarijného stavu- prasknuté potrubie prívodu vody a kanalizácie | BS6: 0,01
D7: JKSO: | AK7: ČS: | BS7: 0,01
D8: Miesto: | K8: Prešov | AK8: Dátum: | AN8: 46217 | BS8: 0,01
BS9: 0,01
D10: Objednávateľ: | AK10: IČO: | AN10: 17078482 | BS10: 0,01
E11: Stredná odborná škola gastronómie a služieb, Prešov | AK11: IČ DPH: | BS11: 0,01
BS12: 0,01
D13: Zhotoviteľ: | AK13: IČO: | AN13: 47550571 | BS13: 0,01
E14: StavStar s.r.o., Hlavná 59/42, 053 05 Granč - Petrovce | AK14: IČ DPH: | AN14: SK202 398 4193 | BS14: 0,01
BS15: False
D16: Projektant: | AK16: IČO: | BS16: False
AK17: IČ DPH: | BS17: True
BS18: 0,01
D19: Spracovateľ: | AK19: IČO: | BS19: 0,01
AK20: IČ DPH: | BS20: True
D22: Poznámka:
D26: Cena bez DPH | AK26: =ROUND(AG94,2) -> 3926.61
L28: Sadzba dane | W28: Základ dane | AK28: Výška dane
D29: DPH | F29: základná | L29: 0.23 | W29: =ROUND(AZ94, 2) -> 0 | AK29: =ROUND(AV94, 2) -> 0
F30: znížená | L30: 0.23 | W30: =ROUND(BA94, 2) -> 3926.61 | AK30: =ROUND(AW94, 2) -> 903.12
F31: zákl. prenesená | L31: 0.23 | W31: =ROUND(BB94, 2) -> 0 | AK31: 0
F32: zníž. prenesená | L32: 0.23 | W32: =ROUND(BC94, 2) -> 0 | AK32: 0
F33: nulová | L33: 0 | W33: =ROUND(BD94, 2) -> 0 | AK33: 0
D35: Cena s DPH | T35: v | X35: EUR | AK35: =SUM(AK26:AK33) -> 4829.73
D49: Projektant | AH49: Spracovateľ
D60: Dátum a podpis: | V60: Pečiatka | AH60: Dátum a podpis: | AM60: Pečiatka
D64: Objednávateľ | AH64: Zhotoviteľ
D75: Dátum a podpis: | V75: Pečiatka | AH75: Dátum a podpis: | AM75: Pečiatka
C82: REKAPITULÁCIA OBJEKTOV STAVBY
C84: Kód: | L84: =K5 -> 0
C85: Stavba: | L85: =K6 -> Oprava havarijného stavu- prasknuté potrubie prívodu vody a kanalizácie
C87: Miesto: | L87: =IF(K8="","",K8) -> Prešov | AI87: Dátum: | AM87: =IF(AN8= "","",AN8) -> 46217
C89: Objednávateľ: | L89: =IF(E11= "","",E11) -> Stredná odborná škola gastronómie a služieb, Prešov | AI89: Projektant: | AM89: =IF(E17="","",E17) | AS89: Informatívne údaje z listov zákaziek
C90: Zhotoviteľ: | L90: =IF(E14="","",E14) -> StavStar s.r.o., Hlavná 59/42, 053 05 Granč - Petrovce | AI90: Spracovateľ: | AM90: =IF(E20="","",E20)
C92: Kód | I92: Popis | AG92: Cena bez DPH [EUR] | AN92: Cena s DPH [EUR] | AQ92: Typ | AS92: z toho Ostat._x000D_ náklady [EUR] | AT92: DPH [EUR] | AU92: Normohodiny [h] | AV92: DPH základná [EUR] | AW92: DPH znížená [EUR] | AX92: DPH základná prenesená_x000D_ [EUR] | AY92: DPH znížená prenesená_x000D_ [EUR] | AZ92: Základňa_x000D_ DPH základná | BA92: Základňa_x000D_ DPH znížená | BB92: Základňa_x000D_ DPH zákl. prenesená | BC92: Základňa_x000D_ DPH zníž. prenesená | BD92: Základňa_x000D_ DPH nulová
C94: Náklady z rozpočtov | AG94: =ROUND(SUM(AG95:AG95),2) -> 3926.61 | AN94: =SUM(AG94,AT94) -> 4829.73 | AS94: =ROUND(SUM(AS95:AS95),2) -> 0 | AT94: =ROUND(SUM(AV94:AW94),2) -> 903.12 | AU94: =ROUND(SUM(AU95:AU95),5) -> #REF! | AV94: =ROUND(AZ94*L29,2) -> 0 | AW94: =ROUND(BA94*L30,2) -> 903.12 | AX94: =ROUND(BB94*L29,2) -> 0 | AY94: =ROUND(BC94*L30,2) -> 0 | AZ94: =ROUND(SUM(AZ95:AZ95),2) -> 0 | BA94: =ROUND(SUM(BA95:BA95),2) -> 3926.61 | BB94: =ROUND(SUM(BB95:BB95),2) -> 0 | BC94: =ROUND(SUM(BC95:BC95),2) -> 0 | BD94: =ROUND(SUM(BD95:BD95),2) -> 0 | BS94: D | BT94: 0 | BU94: ###NOIMPORT### | BV94: IMPORT | BW94: {8f2cd421-1fdb-4601-9de8-a511a19ecfbe} | BX94: {00000000-0000-0000-0000-000000000000}
A95: / | D95: 01 | J95: Stavebná časť- naviac práce | AG95: ='01 - Stavebná časť'!J30 -> 3926.61 | AN95: =SUM(AG95,AT95) -> 4829.73 | AQ95: STA | AS95: 0 | AT95: =ROUND(SUM(AV95:AW95),2) -> 903.12 | AU95: ='01 - Stavebná časť'!P118 -> #REF! | AV95: ='01 - Stavebná časť'!J33 -> 0 | AW95: ='01 - Stavebná časť'!J34 -> 903.12 | AX95: ='01 - Stavebná časť'!J35 -> 0 | AY95: ='01 - Stavebná časť'!J36 -> 0 | AZ95: ='01 - Stavebná časť'!F33 -> 0 | BA95: ='01 - Stavebná časť'!F34 -> 3926.61 | BB95: ='01 - Stavebná časť'!F35 -> 0 | BC95: ='01 - Stavebná časť'!F36 -> 0 | BD95: ='01 - Stavebná časť'!F37 -> 0 | BT95: 1 | BV95: IMPORT | BW95: {9b8803d5-53e8-48c5-a0f1-c7bc83fa79c6} | BX95: {8f2cd421-1fdb-4601-9de8-a511a19ecfbe} | CM95: 0

Sheet 01 - Stavebná časť
L2: >> skryté stĺpce << | AT2: {9b8803d5-53e8-48c5-a0f1-c7bc83fa79c6}
AT3: 0
D4: KRYCÍ LIST ROZPOČTU | M4: v --- nižšie sa nachádzajú doplnkové a pomocné údaje k zostavám --- v | AT4: False
D6: Stavba:
E7: ='Rekapitulácia stavby'!K6 -> Oprava havarijného stavu- prasknuté potrubie prívodu vody a kanalizácie
D8: Objekt:
E9: 01 - Stavebná časť- naviac práce
D11: JKSO: | I11: ČS:
D12: Miesto: | F12: Prešov | I12: Dátum: | J12: 46217
D14: Objednávateľ: | I14: IČO: | J14: =IF('Rekapitulácia stavby'!AN10="","",'Rekapitulácia stavby'!AN10) -> 17078482
E15: =IF('Rekapitulácia stavby'!E11="","",'Rekapitulácia stavby'!E11) -> Stredná odborná škola gastronómie a služieb, Prešov | I15: IČ DPH: | J15: =IF('Rekapitulácia stavby'!AN11="","",'Rekapitulácia stavby'!AN11)
D17: Zhotoviteľ: | I17: IČO: | J17: ='Rekapitulácia stavby'!AN13 -> 47550571
E18: ='Rekapitulácia stavby'!E14 -> StavStar s.r.o., Hlavná 59/42, 053 05 Granč - Petrovce | I18: IČ DPH: | J18: ='Rekapitulácia stavby'!AN14 -> SK202 398 4193
D20: Projektant: | I20: IČO: | J20: =IF('Rekapitulácia stavby'!AN16="","",'Rekapitulácia stavby'!AN16)
E21: =IF('Rekapitulácia stavby'!E17="","",'Rekapitulácia stavby'!E17) | I21: IČ DPH: | J21: =IF('Rekapitulácia stavby'!AN17="","",'Rekapitulácia stavby'!AN17)
D23: Spracovateľ: | I23: IČO: | J23: =IF('Rekapitulácia stavby'!AN19="","",'Rekapitulácia stavby'!AN19)
E24: =IF('Rekapitulácia stavby'!E20="","",'Rekapitulácia stavby'!E20) | I24: IČ DPH: | J24: =IF('Rekapitulácia stavby'!AN20="","",'Rekapitulácia stavby'!AN20)
D26: Poznámka:
D30: Cena bez DPH | J30: =ROUND(J118, 2) -> 3926.61
F32: Základ dane | I32: Sadzba dane | J32: Výška dane
D33: DPH | E33: základná | F33: =ROUND((SUM(BE118:BE135)), 2) -> 0 | I33: 0.23 | J33: =ROUND(((SUM(BE118:BE135))*I33), 2) -> 0
E34: znížená | F34: =ROUND((SUM(BF118:BF135)), 2) -> 3926.61 | I34: 0.23 | J34: =ROUND(((SUM(BF118:BF135))*I34), 2) -> 903.12
E35: zákl. prenesená | F35: =ROUND((SUM(BG118:BG135)), 2) -> 0 | I35: 0.23 | J35: =0 -> 0
E36: zníž. prenesená | F36: =ROUND((SUM(BH118:BH135)), 2) -> 0 | I36: 0.23 | J36: =0 -> 0
E37: nulová | F37: =ROUND((SUM(BI118:BI135)), 2) -> 0 | I37: 0 | J37: =0 -> 0
D39: Cena s DPH | G39: v | H39: EUR | J39: =SUM(J30:J37) -> 4829.73
D50: Projektant | G50: Spracovateľ
D61: Dátum a podpis: | F61: Pečiatka | G61: Dátum a podpis: | J61: Pečiatka
D65: Objednávateľ | G65: Zhotoviteľ
D76: Dátum a podpis: | F76: Pečiatka | G76: Dátum a podpis: | J76: Pečiatka
C82: REKAPITULÁCIA ROZPOČTU
C84: Stavba:
E85: =E7 -> Oprava havarijného stavu- prasknuté potrubie prívodu vody a kanalizácie
C86: Objekt:
E87: =E9 -> 01 - Stavebná časť- naviac práce
C89: Miesto: | F89: =F12 -> Prešov | I89: Dátum: | J89: =IF(J12="","",J12) -> 46217
C91: Objednávateľ: | F91: =E15 -> Stredná odborná škola gastronómie a služieb, Prešov | I91: Projektant: | J91: =E21
C92: Zhotoviteľ: | F92: =IF(E18="","",E18) -> StavStar s.r.o., Hlavná 59/42, 053 05 Granč - Petrovce | I92: Spracovateľ: | J92: =E24
C94: Kód dielu - Popis | J94: Cena celkom [EUR]
C96: Náklady z rozpočtu | J96: =J118 -> 3926.61 | AU96: -1
D97: HSV - Práce a dodávky HSV | J97: =J119 -> 3926.61
D98: 6 - Úpravy povrchov, podlahy, osadenie | J98: =J120 -> 3926.61
C105: ROZPOČET
C107: Stavba:
E108: =E7 -> Oprava havarijného stavu- prasknuté potrubie prívodu vody a kanalizácie
C109: Objekt:
E110: =E9 -> 01 - Stavebná časť- naviac práce
C112: Miesto: | F112: =F12 -> Prešov | I112: Dátum: | J112: =IF(J12="","",J12) -> 46217
C114: Objednávateľ: | F114: =E15 -> Stredná odborná škola gastronómie a služieb, Prešov | I114: Projektant: | J114: =E21
C115: Zhotoviteľ: | F115: =IF(E18="","",E18) -> StavStar s.r.o., Hlavná 59/42, 053 05 Granč - Petrovce | I115: Spracovateľ: | J115: =E24
C117: PČ | D117: Typ | E117: Kód | F117: Popis | G117: MJ | H117: Množstvo | I117: J.cena [EUR] | J117: Cena celkom [EUR] | K117: Cenová sústava | N117: DPH | O117: J. Nh [h] | P117: Nh celkom [h] | Q117: J. hmotnosť [t] | R117: Hmotnosť celkom [t] | S117: J. suť [t] | T117: Suť Celkom [t]
C118: Náklady z rozpočtu | J118: =J119 -> 3926.61 | P118: =P119+#REF! -> #REF! | R118: =R119+#REF! -> #REF! | T118: =T119+#REF! -> #REF! | AT118: D | AU118: -1 | BK118: =BK119+#REF! -> #REF!
D119: D | E119: HSV | F119: Práce a dodávky HSV | J119: =J120 -> 3926.61 | P119: =P120+#REF!+#REF! -> #REF! | R119: =R120+#REF!+#REF! -> #REF! | T119: =T120+#REF!+#REF! -> #REF! | AR119: 1 | AT119: D | AU119: 0 | AY119: ROZPOCET | BK119: =BK120+#REF!+#REF! -> #REF!
D120: D | E120: 6 | F120: Úpravy povrchov, podlahy, osadenie | J120: =BK120 -> 3926.61 | P120: =SUM(P121:P135) -> 156.4421 | R120: =SUM(R121:R135) -> 8.7361562 | T120: =SUM(T121:T135) -> 0 | AR120: 1 | AT120: D | AU120: 1 | AY120: ROZPOCET | BK120: =SUM(BK121:BK135) -> 3926.61
C121: 1 | D121: K | E121: 965081712.S | F121: Búranie obkladu, bez podklad. lôžka z xylolit., alebo keramických dlaždíc hr. do 10 mm, -0,02000t | G121: m2 | H121: 15.57 | I121: 3.11 | J121: =ROUND(I121*H121,2) -> 48.42 | N121: znížená | O121: 0.65652 | P121: =O121*H121 -> 10.222016 | Q121: 0.07552 | R121: =Q121*H121 -> 1.1758464 | S121: 0 | T121: =S121*H121 -> 0 | AR121: 4 | AT121: K | AU121: 2 | AY121: ROZPOCET | BE121: =IF(N121="základná",J121,0) -> 0 | BF121: =IF(N121="znížená",J121,0) -> 48.42 | BG121: =IF(N121="zákl. prenesená",J121,0) -> 0 | BH121: =IF(N121="zníž. prenesená",J121,0) -> 0 | BI121: =IF(N121="nulová",J121,0) -> 0 | BJ121: 2 | BK121: =ROUND(I121*H121,2) -> 48.42 | BL121: 4 | BM121: 238046076
C122: 2 | D122: K | E122: 978013191.S | F122: Otlčenie omietok stien vnútorných vápenných alebo vápennocementových v rozsahu do 100 %, -0,04600t | G122: m2 | H122: 27.11 | I122: 3.1 | J122: =ROUND(I122*H122,2) -> 84.04 | N122: znížená | O122: 1.29095 | P122: =O122*H122 -> 34.997655 | Q122: 0.04358 | R122: =Q122*H122 -> 1.1814538 | S122: 0 | T122: =S122*H122 -> 0 | AR122: 4 | AT122: K | AU122: 2 | AY122: ROZPOCET | BE122: =IF(N122="základná",J122,0) -> 0 | BF122: =IF(N122="znížená",J122,0) -> 84.04 | BG122: =IF(N122="zákl. prenesená",J122,0) -> 0 | BH122: =IF(N122="zníž. prenesená",J122,0) -> 0 | BI122: =IF(N122="nulová",J122,0) -> 0 | BJ122: 2 | BK122: =ROUND(I122*H122,2) -> 84.04 | BL122: 4 | BM122: -940798993
C123: 3 | D123: K | E123: 612451071.S | F123: Vyspravenie povrchu neomietaných betónových stien vnútorných maltou cementovou pre omietky | G123: m2 | H123: 42.68 | I123: 1.85 | J123: =ROUND(I123*H123,2) -> 78.96 | N123: znížená | O123: 0.58452 | P123: =O123*H123 -> 24.947314 | Q123: 0.07552 | R123: =Q123*H123 -> 3.2231936 | S123: 0 | T123: =S123*H123 -> 0 | AR123: 4 | AT123: K | AU123: 2 | AY123: ROZPOCET | BE123: =IF(N123="základná",J123,0) -> 0 | BF123: =IF(N123="znížená",J123,0) -> 78.96 | BG123: =IF(N123="zákl. prenesená",J123,0) -> 0 | BH123: =IF(N123="zníž. prenesená",J123,0) -> 0 | BI123: =IF(N123="nulová",J123,0) -> 0 | BJ123: 2 | BK123: =ROUND(I123*H123,2) -> 78.96 | BL123: 4 | BM123: 703644286
C124: 4 | D124: K | E124: 612460111.S | F124: Príprava vnútorného podkladu stien na silno a nerovnomerne nasiakavé podklady regulátorom nasiakavosti | G124: m2 | H124: 42.68 | I124: 2.4 | J124: =ROUND(I124*H124,2) -> 102.43 | N124: znížená | O124: 0.146 | P124: =O124*H124 -> 6.23128 | Q124: 0.0028 | R124: =Q124*H124 -> 0.119504 | S124: 0 | T124: =S124*H124 -> 0 | AR124: 4 | AT124: K | AU124: 2 | AY124: ROZPOCET | BE124: =IF(N124="základná",J124,0) -> 0 | BF124: =IF(N124="znížená",J124,0) -> 102.43 | BG124: =IF(N124="zákl. prenesená",J124,0) -> 0 | BH124: =IF(N124="zníž. prenesená",J124,0) -> 0 | BI124: =IF(N124="nulová",J124,0) -> 0 | BJ124: 2 | BK124: =ROUND(I124*H124,2) -> 102.43 | BL124: 4 | BM124: 1022398214
C125: 5 | D125: K | E125: 612460242.S | F125: Vnútorná omietka stien vápennocementová jadrová (hrubá), hr. 15 mm | G125: m2 | H125: 42.68 | I125: 16.51 | J125: =ROUND(I125*H125,2) -> 704.65 | N125: znížená | O125: 0.225 | P125: =O125*H125 -> 9.603 | Q125: 0.01119 | R125: =Q125*H125 -> 0.4775892 | S125: 0 | T125: =S125*H125 -> 0 | AR125: 4 | AT125: K | AU125: 2 | AY125: ROZPOCET | BE125: =IF(N125="základná",J125,0) -> 0 | BF125: =IF(N125="znížená",J125,0) -> 704.65 | BG125: =IF(N125="zákl. prenesená",J125,0) -> 0 | BH125: =IF(N125="zníž. prenesená",J125,0) -> 0 | BI125: =IF(N125="nulová",J125,0) -> 0 | BJ125: 2 | BK125: =ROUND(I125*H125,2) -> 704.65 | BL125: 4 | BM125: 1177135669
C126: 6 | D126: K | E126: 612460361.S | F126: Vnútorná omietka stien vápennocementová jednovrstvová, hr. 5 mm | G126: m2 | H126: 42.68 | I126: 10.05 | J126: =ROUND(I126*H126,2) -> 428.93 | N126: znížená | O126: 0.225 | P126: =O126*H126 -> 9.603 | Q126: 0.01119 | R126: =Q126*H126 -> 0.4775892 | S126: 0 | T126: =S126*H126 -> 0 | AR126: 4 | AT126: K | AU126: 2 | AY126: ROZPOCET | BE126: =IF(N126="základná",J126,0) -> 0 | BF126: =IF(N126="znížená",J126,0) -> 428.93 | BG126: =IF(N126="zákl. prenesená",J126,0) -> 0 | BH126: =IF(N126="zníž. prenesená",J126,0) -> 0 | BI126: =IF(N126="nulová",J126,0) -> 0 | BJ126: 2 | BK126: =ROUND(I126*H126,2) -> 428.93 | BL126: 4 | BM126: 1177135669
C127: 7 | D127: K | E127: 612481119.S | F127: Potiahnutie vnútorných stien sklotextilnou mriežkou s celoplošným prilepením | G127: m2 | H127: 42.68 | I127: 9.33 | J127: =ROUND(I127*H127,2) -> 398.2 | N127: znížená | O127: 0.225 | P127: =O127*H127 -> 9.603 | Q127: 0.01119 | R127: =Q127*H127 -> 0.4775892 | S127: 0 | T127: =S127*H127 -> 0 | AR127: 4 | AT127: K | AU127: 2 | AY127: ROZPOCET | BE127: =IF(N127="základná",J127,0) -> 0 | BF127: =IF(N127="znížená",J127,0) -> 398.2 | BG127: =IF(N127="zákl. prenesená",J127,0) -> 0 | BH127: =IF(N127="zníž. prenesená",J127,0) -> 0 | BI127: =IF(N127="nulová",J127,0) -> 0 | BJ127: 2 | BK127: =ROUND(I127*H127,2) -> 398.2 | BL127: 4 | BM127: 1177135669
C128: 8 | D128: K | E128: 714110801.S | F128: Demontáž SDK stropu, -0,00502t | G128: m2 | H128: 36.112 | I128: 3.22 | J128: =ROUND(I128*H128,2) -> 116.28 | N128: znížená | O128: 1.19418 | P128: =O128*H128 -> 43.124228 | Q128: 0.039804 | R128: =Q128*H128 -> 1.437402 | S128: 0 | T128: =S128*H128 -> 0 | AR128: 4 | AT128: K | AU128: 2 | AY128: ROZPOCET | BE128: =IF(N128="základná",J128,0) -> 0 | BF128: =IF(N128="znížená",J128,0) -> 116.28 | BG128: =IF(N128="zákl. prenesená",J128,0) -> 0 | BH128: =IF(N128="zníž. prenesená",J128,0) -> 0 | BI128: =IF(N128="nulová",J128,0) -> 0 | BJ128: 2 | BK128: =ROUND(I128*H128,2) -> 116.28 | BL128: 4 | BM128: 1842138338
C129: 9 | D129: K | E129: 763132420 | F129: Podhľady sadr. D112 zaves. 2-vrstv. oceľ. konštr. CD, bez tep. izol. 12mm | G129: m2 | H129: 36.112 | I129: 46.4 | J129: =ROUND(I129*H129,2) -> 1675.6 | N129: znížená | O129: 0.09205 | P129: =O129*H129 -> 3.3241096 | Q129: 0.000225 | R129: =Q129*H129 -> 0.0081252 | S129: 0 | T129: =S129*H129 -> 0 | AR129: 4 | AT129: K | AU129: 2 | AY129: ROZPOCET | BE129: =IF(N129="základná",J129,0) -> 0 | BF129: =IF(N129="znížená",J129,0) -> 1675.6 | BG129: =IF(N129="zákl. prenesená",J129,0) -> 0 | BH129: =IF(N129="zníž. prenesená",J129,0) -> 0 | BI129: =IF(N129="nulová",J129,0) -> 0 | BJ129: 2 | BK129: =ROUND(I129*H129,2) -> 1675.6 | BL129: 4 | BM129: 838918618
C130: 10 | D130: K | E130: 979081111.S | F130: Odvoz sutiny a vybúraných hmôt na skládku do 1 km | G130: t | H130: 1.88 | I130: 17.55 | J130: =ROUND(I130*H130,2) -> 32.99 | N130: znížená | O130: 0.09205 | P130: =O130*H130 -> 0.173054 | Q130: 0.000225 | R130: =Q130*H130 -> 0.000423 | S130: 0 | T130: =S130*H130 -> 0 | AR130: 4 | AT130: K | AU130: 2 | AY130: ROZPOCET | BE130: =IF(N130="základná",J130,0) -> 0 | BF130: =IF(N130="znížená",J130,0) -> 32.99 | BG130: =IF(N130="zákl. prenesená",J130,0) -> 0 | BH130: =IF(N130="zníž. prenesená",J130,0) -> 0 | BI130: =IF(N130="nulová",J130,0) -> 0 | BJ130: 2 | BK130: =ROUND(I130*H130,2) -> 32.99 | BL130: 4 | BM130: 838918618
C131: 11 | D131: K | E131: 979081121.S | F131: Odvoz sutiny a vybúraných hmôt na skládku za každý ďalší 1 km | G131: t | H131: 35.72 | I131: 0.51 | J131: =ROUND(I131*H131,2) -> 18.22 | N131: znížená | O131: 0.09205 | P131: =O131*H131 -> 3.288026 | Q131: 0.000225 | R131: =Q131*H131 -> 0.008037 | S131: 0 | T131: =S131*H131 -> 0 | AR131: 4 | AT131: K | AU131: 2 | AY131: ROZPOCET | BE131: =IF(N131="základná",J131,0) -> 0 | BF131: =IF(N131="znížená",J131,0) -> 18.22 | BG131: =IF(N131="zákl. prenesená",J131,0) -> 0 | BH131: =IF(N131="zníž. prenesená",J131,0) -> 0 | BI131: =IF(N131="nulová",J131,0) -> 0 | BJ131: 2 | BK131: =ROUND(I131*H131,2) -> 18.22 | BL131: 4 | BM131: 838918618
C132: 12 | D132: K | E132: 979082111.S | F132: Vnútrostavenisková doprava sutiny a vybúraných hmôt do 10 m | G132: t | H132: 1.88 | I132: 15.22 | J132: =ROUND(I132*H132,2) -> 28.61 | N132: znížená | O132: 0.03501 | P132: =O132*H132 -> 0.0658188 | Q132: 0 | R132: =Q132*H132 -> 0 | S132: 0 | T132: =S132*H132 -> 0 | AR132: 4 | AT132: K | AU132: 2 | AY132: ROZPOCET | BE132: =IF(N132="základná",J132,0) -> 0 | BF132: =IF(N132="znížená",J132,0) -> 28.61 | BG132: =IF(N132="zákl. prenesená",J132,0) -> 0 | BH132: =IF(N132="zníž. prenesená",J132,0) -> 0 | BI132: =IF(N132="nulová",J132,0) -> 0 | BJ132: 2 | BK132: =ROUND(I132*H132,2) -> 28.61 | BL132: 4 | BM132: -1833014085
C133: 13 | D133: K | E133: 979082121.S | F133: Vnútrostavenisková doprava sutiny a vybúraných hmôt za každých ďalších 5 m | G133: t | H133: 16.92 | I133: 1.71 | J133: =ROUND(I133*H133,2) -> 28.93 | N133: znížená | O133: 0 | P133: =O133*H133 -> 0 | Q133: 0.001 | R133: =Q133*H133 -> 0.01692 | S133: 0 | T133: =S133*H133 -> 0 | AR133: 8 | AT133: M | AU133: 2 | AY133: ROZPOCET | BE133: =IF(N133="základná",J133,0) -> 0 | BF133: =IF(N133="znížená",J133,0) -> 28.93 | BG133: =IF(N133="zákl. prenesená",J133,0) -> 0 | BH133: =IF(N133="zníž. prenesená",J133,0) -> 0 | BI133: =IF(N133="nulová",J133,0) -> 0 | BJ133: 2 | BK133: =ROUND(I133*H133,2) -> 28.93 | BL133: 4 | BM133: -1104296399
C134: 14 | D134: K | E134: 979087112.S | F134: Nakladanie na dopravný prostriedok pre vodorovnú dopravu sutiny | G134: t | H134: 1.88 | I134: 5.93 | J134: =ROUND(I134*H134,2) -> 11.15 | N134: znížená | O134: 0.457 | P134: =O134*H134 -> 0.85916 | Q134: 0.0618 | R134: =Q134*H134 -> 0.116184 | S134: 0 | T134: =S134*H134 -> 0 | AR134: 4 | AT134: K | AU134: 2 | AY134: ROZPOCET | BE134: =IF(N134="základná",J134,0) -> 0 | BF134: =IF(N134="znížená",J134,0) -> 11.15 | BG134: =IF(N134="zákl. prenesená",J134,0) -> 0 | BH134: =IF(N134="zníž. prenesená",J134,0) -> 0 | BI134: =IF(N134="nulová",J134,0) -> 0 | BJ134: 2 | BK134: =ROUND(I134*H134,2) -> 11.15 | BL134: 4 | BM134: 331421180
C135: 15 | D135: K | E135: 979089012.S | F135: Poplatok za skládku - betón, tehly, dlaždice, obkladačky a keramika (17 01), ostatné | G135: t | H135: 1.88 | I135: 90 | J135: =ROUND(I135*H135,2) -> 169.2 | N135: znížená | O135: 0.213 | P135: =O135*H135 -> 0.40044 | Q135: 0.00867 | R135: =Q135*H135 -> 0.0162996 | S135: 0 | T135: =S135*H135 -> 0 | AR135: 4 | AT135: K | AU135: 2 | AY135: ROZPOCET | BE135: =IF(N135="základná",J135,0) -> 0 | BF135: =IF(N135="znížená",J135,0) -> 169.2 | BG135: =IF(N135="zákl. prenesená",J135,0) -> 0 | BH135: =IF(N135="zníž. prenesená",J135,0) -> 0 | BI135: =IF(N135="nulová",J135,0) -> 0 | BJ135: 2 | BK135: =ROUND(I135*H135,2) -> 169.2 | BL135: 4 | BM135: -1482610624
